BEGIN:VCALENDAR
VERSION:2.0
PRODID:-//Centro Budista de la Ciudad de México - ECPv6.5.0.1//NONSGML v1.0//EN
CALSCALE:GREGORIAN
METHOD:PUBLISH
X-WR-CALNAME:Centro Budista de la Ciudad de México
X-ORIGINAL-URL:https://budismo.org.mx
X-WR-CALDESC:Eventos para Centro Budista de la Ciudad de México
REFRESH-INTERVAL;VALUE=DURATION:PT1H
X-Robots-Tag:noindex
X-PUBLISHED-TTL:PT1H
BEGIN:VTIMEZONE
TZID:America/Mexico_City
BEGIN:STANDARD
TZOFFSETFROM:-0600
TZOFFSETTO:-0600
TZNAME:CST
DTSTART:20240101T000000
END:STANDARD
END:VTIMEZONE
BEGIN:VEVENT
DTSTART;TZID=America/Mexico_City:20240407T113000
DTEND;TZID=America/Mexico_City:20240407T133000
DTSTAMP:20260422T172359
CREATED:20240308T225248Z
LAST-MODIFIED:20240313T204724Z
UID:10000653-1712489400-1712496600@budismo.org.mx
SUMMARY:Taller especial de Yoga Restaurativa: El cuidado de tu espalda en la vida diaria
DESCRIPTION:Nuestra espalda\, la Columna Vertebral es la estructura principal que sostiene el peso del cuerpo humano\, por ello es clave en nuestro estado de salud en general. Cuando cualquier vértebra se encuentra fuera de posición\, afecta a los músculos y nervios de esa área y también a los órganos internos asociados con ella. Yoga Restaurativa puede ayudarnos al cuidado de nuestra espalda a través de posturas\, asimismo\, ayuda en el tratamiento a mediano plazo de algunos padecimientos de la columna vertebral. \nAbierto a todo público con cualquier nivel de experiencia
URL:https://budismo.org.mx/calendario/taller-especial-de-yoga-restaurativa-el-cuidado-de-tu-espalda-en-la-vida-diaria/
LOCATION:Centro Budista Roma\, Jalapa 94\, esq. Tabasco\, Colonia Roma Norte\, CDMX\, 06700\, México
CATEGORIES:Actividades Destacadas,Yoga Restaurativa
ATTACH;FMTTYPE=image/jpeg:https://budismo.org.mx/wp-content/uploads/2022/10/columna-001b.jpg
ORGANIZER;CN="Centro Budista Roma":MAILTO:contacto@budismo.com
END:VEVENT
END:VCALENDAR