BEGIN:VCALENDAR
VERSION:2.0
PRODID:-//Centro Budista de la Ciudad de México - ECPv6.5.0.1//NONSGML v1.0//EN
CALSCALE:GREGORIAN
METHOD:PUBLISH
X-WR-CALNAME:Centro Budista de la Ciudad de México
X-ORIGINAL-URL:https://budismo.org.mx
X-WR-CALDESC:Eventos para Centro Budista de la Ciudad de México
REFRESH-INTERVAL;VALUE=DURATION:PT1H
X-Robots-Tag:noindex
X-PUBLISHED-TTL:PT1H
BEGIN:VTIMEZONE
TZID:America/Mexico_City
BEGIN:STANDARD
TZOFFSETFROM:-0600
TZOFFSETTO:-0600
TZNAME:CST
DTSTART:20260101T000000
END:STANDARD
END:VTIMEZONE
BEGIN:VEVENT
DTSTART;TZID=America/Mexico_City:20260201T160000
DTEND;TZID=America/Mexico_City:20260201T183000
DTSTAMP:20260420T063802
CREATED:20251230T063346Z
LAST-MODIFIED:20260107T040037Z
UID:10001303-1769961600-1769970600@budismo.org.mx
SUMMARY:Ceremonia Devocional de Luna Llena: Dedicada al Parinirvana del Buda
DESCRIPTION:La celebración del Parinirvana del Buda o el deceso final del cuerpo de un Buda se considera tradicionalmente como su Nirvana Final. Es el momento en el cual su conciencia se trasciende completamente. A su vez\, el recorrido del Buda antes de ese día\, así como sus enseñanzas momentos antes de morir se han vuelto doctrinas importantes dentro del pensamiento y prácticas del budismo. \nEsta Ceremonia Especial de Puya de Luna Llena la dedicaremos al legado que dejó la vida de Siddhartha Gautama\, El Buda. \nAbierto a todas las personas con cualquier nivel de experiencia.
URL:https://budismo.org.mx/calendario/ceremonia-devocional-de-luna-llena-dedicada-al-parinirvana-del-buda/
LOCATION:Centro Budista Roma\, Jalapa 94\, esq. Tabasco\, Colonia Roma Norte\, CDMX\, 06700\, México
CATEGORIES:Budismo,Festivales,Puyas
ATTACH;FMTTYPE=image/jpeg:https://budismo.org.mx/wp-content/uploads/2019/02/curso-mindfulness-vida-y-muerte-002a.jpg
ORGANIZER;CN="Centro Budista Roma":MAILTO:contacto@budismo.com
END:VEVENT
END:VCALENDAR