BEGIN:VCALENDAR
VERSION:2.0
PRODID:-//Centro Budista de la Ciudad de México - ECPv6.5.0.1//NONSGML v1.0//EN
CALSCALE:GREGORIAN
METHOD:PUBLISH
X-WR-CALNAME:Centro Budista de la Ciudad de México
X-ORIGINAL-URL:https://budismo.org.mx
X-WR-CALDESC:Eventos para Centro Budista de la Ciudad de México
REFRESH-INTERVAL;VALUE=DURATION:PT1H
X-Robots-Tag:noindex
X-PUBLISHED-TTL:PT1H
BEGIN:VTIMEZONE
TZID:America/Mexico_City
BEGIN:STANDARD
TZOFFSETFROM:-0600
TZOFFSETTO:-0600
TZNAME:CST
DTSTART:20250101T000000
END:STANDARD
END:VTIMEZONE
BEGIN:VEVENT
DTSTART;TZID=America/Mexico_City:20250713T113000
DTEND;TZID=America/Mexico_City:20250713T113000
DTSTAMP:20260422T082755
CREATED:20250528T012326Z
LAST-MODIFIED:20250609T235237Z
UID:10001098-1752406200-1752406200@budismo.org.mx
SUMMARY:Festival del Día del Dharma: Celebración de la primera enseñanza del Buda
DESCRIPTION:El día del Dharma es el día en el que tradicionalmente se celebra la primera enseñanza que el Buda dio para que otros pudieran alcanzar el estado de Iluminación. \nEsto lo hace uno de los días más importantes del calendario budista. En el Centro Budista de la Ciudad de México celebraremos este día con un festival donde nos reuniremos como comunidad espiritual y tendremos meditación\, pláticas con respecto al significado del Dharma\, grupos de discusión y ceremonias tradicionales budistas. \n¡Te esperamos! \nFavor de traer alimentos vegetarianos para compartir. \nPrograma: \n11:30 hrs. – Bienvenida\n11:40 hrs. – Refugios y Preceptos\n11:50 hrs. – Meditación\n12:20 hrs. – Receso\n12:40 hrs. – Pláticas del día\n13:40 hrs. – Grupos de convivencia\n14:30 hrs. – Comida\n16:00 hrs. – Meditación con el Karaniya Metta Sutta\n16:40 hrs. – Ceremonia de Puya
URL:https://budismo.org.mx/calendario/festival-del-dia-del-dharma/
LOCATION:Centro Budista Roma\, Jalapa 94\, esq. Tabasco\, Colonia Roma Norte\, CDMX\, 06700\, México
CATEGORIES:Especiales,Festivales
ATTACH;FMTTYPE=image/jpeg:https://budismo.org.mx/wp-content/uploads/2025/05/budmed-0006b.jpg
ORGANIZER;CN="Centro Budista Roma":MAILTO:contacto@budismo.com
END:VEVENT
END:VCALENDAR