BEGIN:VCALENDAR
VERSION:2.0
PRODID:-//Centro Budista de la Ciudad de México - ECPv6.5.0.1//NONSGML v1.0//EN
CALSCALE:GREGORIAN
METHOD:PUBLISH
X-WR-CALNAME:Centro Budista de la Ciudad de México
X-ORIGINAL-URL:https://budismo.org.mx
X-WR-CALDESC:Eventos para Centro Budista de la Ciudad de México
REFRESH-INTERVAL;VALUE=DURATION:PT1H
X-Robots-Tag:noindex
X-PUBLISHED-TTL:PT1H
BEGIN:VTIMEZONE
TZID:America/Mexico_City
BEGIN:STANDARD
TZOFFSETFROM:-0600
TZOFFSETTO:-0600
TZNAME:CST
DTSTART:20250101T000000
END:STANDARD
END:VTIMEZONE
BEGIN:VEVENT
DTSTART;TZID=America/Mexico_City:20250511T113000
DTEND;TZID=America/Mexico_City:20250511T113000
DTSTAMP:20260422T113801
CREATED:20240406T002621Z
LAST-MODIFIED:20250411T231226Z
UID:10000675-1746963000-1746963000@budismo.org.mx
SUMMARY:Festival día del Buda
DESCRIPTION:Una celebración del día en que Siddhartha Gautama El Buda alcanzó la Iluminación. \nEste día celebramos lo que consideramos el mayor evento de la historia\, la ocasión en que un ser humano alcanzó la Iluminación por primera vez. Se conmemora el día en que Siddhartha Gautama finalmente logró liberarse de todos sus condicionamientos y de sus limitaciones humanas para ponerse a la par con la realidad\, transformándose en la personificación viva de la verdad y convirtiéndose en un Buda. \nPrograma del Festival \n11:30 hrs. – Bienvenida\n11:40 hrs. – Refugios y Preceptos\n11:50 hrs. – Meditación\n12:20 hrs. – Receso\n12:30 hrs. – Plática del día: El día del Buda\n13:30 hrs. – Grupos de Convivencia\n14:30 hrs. – Comida\n16:00 hrs. – Período de Meditación\n16:30 hrs. – Ceremonia de Puja de 7 etapas y cierre del día. \nAbierto a todo público\,  \nEl día incluirá meditación\, charlas y ceremonias tradicionales budistas. \n*Se puede llegar en cualquier momento de la celebración. \n*traer comida vegetariana para compartir
URL:https://budismo.org.mx/calendario/festival-dia-del-buda/
LOCATION:Centro Budista Roma\, Jalapa 94\, esq. Tabasco\, Colonia Roma Norte\, CDMX\, 06700\, México
CATEGORIES:Especiales,Festivales
ATTACH;FMTTYPE=image/jpeg:https://budismo.org.mx/wp-content/uploads/2024/04/dia-del-buda-001b.jpg
ORGANIZER;CN="Centro Budista Roma":MAILTO:contacto@budismo.com
END:VEVENT
END:VCALENDAR