BEGIN:VCALENDAR
VERSION:2.0
PRODID:-//Centro Budista de la Ciudad de México - ECPv6.5.0.1//NONSGML v1.0//EN
CALSCALE:GREGORIAN
METHOD:PUBLISH
X-WR-CALNAME:Centro Budista de la Ciudad de México
X-ORIGINAL-URL:https://budismo.org.mx
X-WR-CALDESC:Eventos para Centro Budista de la Ciudad de México
REFRESH-INTERVAL;VALUE=DURATION:PT1H
X-Robots-Tag:noindex
X-PUBLISHED-TTL:PT1H
BEGIN:VTIMEZONE
TZID:America/Mexico_City
BEGIN:STANDARD
TZOFFSETFROM:-0600
TZOFFSETTO:-0600
TZNAME:CST
DTSTART:20250101T000000
END:STANDARD
END:VTIMEZONE
BEGIN:VEVENT
DTSTART;TZID=America/Mexico_City:20250222T113000
DTEND;TZID=America/Mexico_City:20250222T173000
DTSTAMP:20260422T163045
CREATED:20241219T234559Z
LAST-MODIFIED:20241221T022526Z
UID:10000928-1740223800-1740245400@budismo.org.mx
SUMMARY:Festival del Día del Paranirvana del Buda: El Significado de la Muerte en el Budismo
DESCRIPTION:La celebración del Paranirvana del Buda o el deceso final del cuerpo de un Buda se considera tradicionalmente como su Nirvana Final. Es el momento en el cual su conciencia se trasciende completamente. A su vez\, el recorrido del Buda antes de ese día\, así como sus enseñanzas momentos antes de morir se han vuelto doctrinas importantes dentro del pensamiento y prácticas del budismo. \nEste día en el Centro Budista de la Ciudad de México celebraremos a través de la práctica\, convivencia\, meditación y una ceremonia especial de puya dedicada al legado que dejó la vida de Siddhartha Gautama\, El Buda. \nPrograma\n11:30 hrs. Bienvenida \n11:45 hrs. Meditación\n12:15 hrs. Receso \n12:30 hrs. Charla del día: Significado del Paranirvana del Buda\n13:30 hrs. Grupos de reflexión\n14:15 hrs. Comida\n16:00 hrs. Meditación con Mantras\n16:30 hrs. Ceremonia tradicional de Puya \nAbierto a todo público.
URL:https://budismo.org.mx/calendario/festival-del-dia-del-paranirvana-del-buda-el-significado-de-la-muerte-en-el-budismo/
LOCATION:Centro Budista Roma\, Jalapa 94\, esq. Tabasco\, Colonia Roma Norte\, CDMX\, 06700\, México
CATEGORIES:Festivales
ATTACH;FMTTYPE=image/jpeg:https://budismo.org.mx/wp-content/uploads/2024/12/festival-001b.jpg
ORGANIZER;CN="Centro Budista Roma":MAILTO:contacto@budismo.com
END:VEVENT
END:VCALENDAR