BEGIN:VCALENDAR
VERSION:2.0
PRODID:-//Centro Budista de la Ciudad de México - ECPv6.5.0.1//NONSGML v1.0//EN
CALSCALE:GREGORIAN
METHOD:PUBLISH
X-WR-CALNAME:Centro Budista de la Ciudad de México
X-ORIGINAL-URL:https://budismo.org.mx
X-WR-CALDESC:Eventos para Centro Budista de la Ciudad de México
REFRESH-INTERVAL;VALUE=DURATION:PT1H
X-Robots-Tag:noindex
X-PUBLISHED-TTL:PT1H
BEGIN:VTIMEZONE
TZID:America/Mexico_City
BEGIN:STANDARD
TZOFFSETFROM:-0600
TZOFFSETTO:-0600
TZNAME:CST
DTSTART:20240101T000000
END:STANDARD
END:VTIMEZONE
BEGIN:VEVENT
DTSTART;TZID=America/Mexico_City:20240406T010000
DTEND;TZID=America/Mexico_City:20240406T010000
DTSTAMP:20260423T054619
CREATED:20240329T200341Z
LAST-MODIFIED:20240329T200342Z
UID:10000660-1712365200-1712365200@budismo.org.mx
SUMMARY:Día Triratna: Orígenes de la Transformación
DESCRIPTION:Eventos de todo el mundo\, en vivo desde Londres. \nEn 1967 se puso en marcha un nuevo movimiento budista en un sótano del centro de Londres\, cuando Sangharákshita y sus amigos dedicaron ritualmente el espacio a las Tres Joyas. En el Día Triratna celebramos esta ocasión y las muchas vidas transformadas a medida que el fuego encendido ese día continúa encendido hoy en todo el mundo.  \nEste año\, el Día Triratna en línea coincide con el aniversario de nuestra fundación. Será nuestro 57º “cumpleaños” y llegaremos a ti en directo desde Monmouth Street\, el emplazamiento del primer centro\, y otros lugares históricos relacionados con los primeros días.  \nÚnete a nosotros para celebrar nuestros orígenes\, ser testigo de las transformaciones cotidianas que están teniendo lugar ahora mismo y vislumbrar cómo podemos crecer juntos como Sangha en el futuro.  \nProgramación del día en: https://thebuddhistcentre.com/stories/toolkit/origins/
URL:https://budismo.org.mx/calendario/dia-triratna-origenes-de-la-transformacion/
LOCATION:Centro Budista Roma\, Jalapa 94\, esq. Tabasco\, Colonia Roma Norte\, CDMX\, 06700\, México
CATEGORIES:Actividades para Mitras,Festivales
ATTACH;FMTTYPE=image/jpeg:https://budismo.org.mx/wp-content/uploads/2024/03/buddhist.jpg
ORGANIZER;CN="Centro Budista Roma":MAILTO:contacto@budismo.com
END:VEVENT
END:VCALENDAR