BEGIN:VCALENDAR
VERSION:2.0
PRODID:-//Centro Budista de la Ciudad de México - ECPv6.5.0.1//NONSGML v1.0//EN
CALSCALE:GREGORIAN
METHOD:PUBLISH
X-WR-CALNAME:Centro Budista de la Ciudad de México
X-ORIGINAL-URL:https://budismo.org.mx
X-WR-CALDESC:Eventos para Centro Budista de la Ciudad de México
REFRESH-INTERVAL;VALUE=DURATION:PT1H
X-Robots-Tag:noindex
X-PUBLISHED-TTL:PT1H
BEGIN:VTIMEZONE
TZID:America/Mexico_City
BEGIN:STANDARD
TZOFFSETFROM:-0600
TZOFFSETTO:-0600
TZNAME:CST
DTSTART:20250101T000000
END:STANDARD
END:VTIMEZONE
BEGIN:VEVENT
DTSTART;TZID=America/Mexico_City:20251109T113000
DTEND;TZID=America/Mexico_City:20251109T113000
DTSTAMP:20260420T095111
CREATED:20240920T224417Z
LAST-MODIFIED:20251024T232114Z
UID:10000829-1762687800-1762687800@budismo.org.mx
SUMMARY:Festival del día de la Sangha
DESCRIPTION:La Sangha\, la comunidad espiritual\, es por tradición uno de los tres ideales más altos del Budismo\, junto con el Buda y el Dharma. La Sangha representa una asociación libre de individuos que se están desarrollando; que se ayudan unos a otros y\, a la vez\, al mundo para acercarse a un modo más consciente de vivir. \nEn este día a través de la convivencia y la práctica entre todos generaremos un sentido de comunidad que nos ayudará a encontrar un significado más profundo de este ideal. \nEl Festival consta de meditación\, una charla del día\, convivencia y ceremonia tradicional.\n(favor de traer alimentos vegetarianos para compartir). \nAbierto a todo público \nPrograma\n11:30 hrs. – Bienvenida\n11:40 hrs. – Refugios y Preceptos\n11:50 hrs. – Meditación\n12:20 hrs. – Receso\n12:40 hrs. – Pláticas del día\n13:40 hrs. – Grupos de convivencia\n14:30 hrs. – Comida\n16:00 hrs. – Meditación con el Karaniya Metta Sutta\n16:40 hrs. – Ceremonia de Puya\n17:40 hrs. – Despedida \nContribución Voluntaria \n*Favor de traer alimentos vegetarianos para compartir
URL:https://budismo.org.mx/calendario/festival-del-dia-de-la-sangha/
LOCATION:Centro Budista Roma\, Jalapa 94\, esq. Tabasco\, Colonia Roma Norte\, CDMX\, 06700\, México
CATEGORIES:Budismo,Festivales,Meditación
ATTACH;FMTTYPE=image/jpeg:https://budismo.org.mx/wp-content/uploads/2024/09/meditacion-027b.jpg
ORGANIZER;CN="Centro Budista Roma":MAILTO:contacto@budismo.com
END:VEVENT
END:VCALENDAR