BEGIN:VCALENDAR
VERSION:2.0
PRODID:-//Centro Budista de la Ciudad de México - ECPv6.5.0.1//NONSGML v1.0//EN
CALSCALE:GREGORIAN
METHOD:PUBLISH
X-WR-CALNAME:Centro Budista de la Ciudad de México
X-ORIGINAL-URL:https://budismo.org.mx
X-WR-CALDESC:Eventos para Centro Budista de la Ciudad de México
REFRESH-INTERVAL;VALUE=DURATION:PT1H
X-Robots-Tag:noindex
X-PUBLISHED-TTL:PT1H
BEGIN:VTIMEZONE
TZID:America/Mexico_City
BEGIN:STANDARD
TZOFFSETFROM:-0600
TZOFFSETTO:-0600
TZNAME:CST
DTSTART:20260101T000000
END:STANDARD
END:VTIMEZONE
BEGIN:VEVENT
DTSTART;TZID=America/Mexico_City:20260111T113000
DTEND;TZID=America/Mexico_City:20260111T113000
DTSTAMP:20260419T095413
CREATED:20251127T072122Z
LAST-MODIFIED:20251128T005142Z
UID:10001279-1768131000-1768131000@budismo.org.mx
SUMMARY:Taller de Yoga y Mindfulness en Coyoacán
DESCRIPTION:A través de la practica de Yoga y de Mindfulness\, podemos conectar con el momento presente. Con la Yoga podemos desarrollar un lenguaje para conectar con nuestros cuerpos y con la Meditación aprendemos a tener conciencia de nosotros mismos y de otras personas con amabilidad. \nEste taller práctico está enfocado al manejo y reducción de emociones negativas con el objetivo de cambiar la manera en que llevamos nuestras vidas dándonos herramientas para poder llevar una vida mas saludable física y emocionalmente. \nAbierto a todo público.
URL:https://budismo.org.mx/calendario/taller-de-yoga-y-mindfulness/
LOCATION:Anexo de Coyoacán\, Francisco Sosa 29\, Colonia Del Carmen\, CDMX\, 04100\, México
CATEGORIES:Actividades Destacadas,Mindfulness,Talleres de Yoga
ATTACH;FMTTYPE=image/jpeg:https://budismo.org.mx/wp-content/uploads/2023/12/yoga-y-mindfulness-f.jpg
ORGANIZER;CN="Centro Budista Roma":MAILTO:contacto@budismo.com
END:VEVENT
BEGIN:VEVENT
DTSTART;TZID=America/Mexico_City:20260111T113000
DTEND;TZID=America/Mexico_City:20260111T133000
DTSTAMP:20260419T095413
CREATED:20251127T065339Z
LAST-MODIFIED:20251127T065340Z
UID:10001273-1768131000-1768138200@budismo.org.mx
SUMMARY:Taller de Yoga Restaurativa: El Cuidado de las Rodillas
DESCRIPTION:Las rodillas son una de las articulaciones más vulnerables del cuerpo por ser sometidas a muchas tensiones y presiones. El diseño de la rodilla resulta tan complejo que\, en caso de lesión\, el proceso de recuperación puede prolongarse durante varios meses y en circunstancias graves\, incluso se producen daños irreparables. \nEste taller está dirigido a personas con padecimientos o dolor en sus rodillas así como a practicantes de yoga que quieran conocer cómo cuidar de las mismas durante su práctica. Aprenderemos ejercicios que ayudarán a disminuir las molestias en caso de lesión\, la alineación de la articulación y la prevención para evitar futuras lesiones o un mayor daño. \nImportante: traer shorts\, bermudas o licras para que el maestro pueda observar tus rodillas. \nEste taller esta dirigido a personas con cualquier nivel de experiencia.
URL:https://budismo.org.mx/calendario/taller-de-yoga-restaurativa-el-cuidado-de-las-rodillas-6/
LOCATION:Centro Budista Roma\, Jalapa 94\, esq. Tabasco\, Colonia Roma Norte\, CDMX\, 06700\, México
CATEGORIES:Actividades Destacadas,Talleres de Yoga,Yoga Restaurativa
ATTACH;FMTTYPE=image/jpeg:https://budismo.org.mx/wp-content/uploads/2022/10/columna-001b.jpg
ORGANIZER;CN="Centro Budista Roma":MAILTO:contacto@budismo.com
END:VEVENT
END:VCALENDAR