BEGIN:VCALENDAR
VERSION:2.0
PRODID:-//Centro Budista de la Ciudad de México - ECPv6.5.0.1//NONSGML v1.0//EN
CALSCALE:GREGORIAN
METHOD:PUBLISH
X-WR-CALNAME:Centro Budista de la Ciudad de México
X-ORIGINAL-URL:https://budismo.org.mx
X-WR-CALDESC:Eventos para Centro Budista de la Ciudad de México
REFRESH-INTERVAL;VALUE=DURATION:PT1H
X-Robots-Tag:noindex
X-PUBLISHED-TTL:PT1H
BEGIN:VTIMEZONE
TZID:America/Mexico_City
BEGIN:STANDARD
TZOFFSETFROM:-0600
TZOFFSETTO:-0600
TZNAME:CST
DTSTART:20260101T000000
END:STANDARD
END:VTIMEZONE
BEGIN:VEVENT
DTSTART;TZID=America/Mexico_City:20260104T113000
DTEND;TZID=America/Mexico_City:20260104T133000
DTSTAMP:20260419T095330
CREATED:20251127T065749Z
LAST-MODIFIED:20251203T002639Z
UID:10001274-1767526200-1767533400@budismo.org.mx
SUMMARY:Taller Especial de Yoga: Recorriendo las Asanas con Fortaleza y Alegría
DESCRIPTION:Las Asanas en la Yoga son posturas que requieren fuerza de voluntad y nos ayudan a desarrollar nuestra fortaleza interna\, la secuencia que se crea en una sesión de práctica es agradable y nos llevan a experimentar estados mentales como la felicidad y alegría. \nTe invitamos a este taller especial para conectar con nuestra práctica de yoga. \nAbierto a todo público.
URL:https://budismo.org.mx/calendario/taller-especial-de-yoga-recorriendo-las-asanas-con-fortaleza-y-alegria/
LOCATION:Centro Budista Roma\, Jalapa 94\, esq. Tabasco\, Colonia Roma Norte\, CDMX\, 06700\, México
CATEGORIES:Actividades Destacadas,Talleres de Yoga
ATTACH;FMTTYPE=image/jpeg:https://budismo.org.mx/wp-content/uploads/2024/07/yoga-002b.jpg
ORGANIZER;CN="Centro Budista Roma":MAILTO:contacto@budismo.com
END:VEVENT
END:VCALENDAR