BEGIN:VCALENDAR
VERSION:2.0
PRODID:-//Centro Budista de la Ciudad de México - ECPv6.5.0.1//NONSGML v1.0//EN
CALSCALE:GREGORIAN
METHOD:PUBLISH
X-WR-CALNAME:Centro Budista de la Ciudad de México
X-ORIGINAL-URL:https://budismo.org.mx
X-WR-CALDESC:Eventos para Centro Budista de la Ciudad de México
REFRESH-INTERVAL;VALUE=DURATION:PT1H
X-Robots-Tag:noindex
X-PUBLISHED-TTL:PT1H
BEGIN:VTIMEZONE
TZID:America/Mexico_City
BEGIN:STANDARD
TZOFFSETFROM:-0600
TZOFFSETTO:-0600
TZNAME:CST
DTSTART:20250101T000000
END:STANDARD
END:VTIMEZONE
BEGIN:VEVENT
DTSTART;TZID=America/Mexico_City:20251229T190000
DTEND;TZID=America/Mexico_City:20251229T190000
DTSTAMP:20260419T095411
CREATED:20251031T012205Z
LAST-MODIFIED:20251101T074129Z
UID:10001242-1767034800-1767034800@budismo.org.mx
SUMMARY:Clase Especial de Yoga de Cierre de Año
DESCRIPTION:La práctica de asanas enfocada a cultivar intenciones de firmeza\, estabilidad y certeza\, abre el panorama a explorar aspectos mentales y emocionales que se ven beneficiados en esta disciplina más allá del cuerpo físico. \nEstas tres cualidades indispensables en la vida cotidiana\, son ejercidas en el cuerpo y reflejadas en la mente del practicante con una actitud y bienestar físico que nos ayudarán a cerrar el año de la mejor manera. \nAbierto a todo público con cualquier nivel de experiencia.
URL:https://budismo.org.mx/calendario/clase-especial-de-yoga-de-cierre/
LOCATION:Centro Budista Roma\, Jalapa 94\, esq. Tabasco\, Colonia Roma Norte\, CDMX\, 06700\, México
CATEGORIES:Actividades Destacadas,Talleres de Yoga
ATTACH;FMTTYPE=image/jpeg:https://budismo.org.mx/wp-content/uploads/2022/07/yoga-principiantes-104b.jpg
ORGANIZER;CN="Centro Budista Roma":MAILTO:contacto@budismo.com
END:VEVENT
END:VCALENDAR