BEGIN:VCALENDAR
VERSION:2.0
PRODID:-//Centro Budista de la Ciudad de México - ECPv6.5.0.1//NONSGML v1.0//EN
CALSCALE:GREGORIAN
METHOD:PUBLISH
X-ORIGINAL-URL:https://budismo.org.mx
X-WR-CALDESC:Eventos para Centro Budista de la Ciudad de México
REFRESH-INTERVAL;VALUE=DURATION:PT1H
X-Robots-Tag:noindex
X-PUBLISHED-TTL:PT1H
BEGIN:VTIMEZONE
TZID:America/Mexico_City
BEGIN:STANDARD
TZOFFSETFROM:-0600
TZOFFSETTO:-0600
TZNAME:CST
DTSTART:20250101T000000
END:STANDARD
END:VTIMEZONE
BEGIN:VEVENT
DTSTART;TZID=America/Mexico_City:20251228T113000
DTEND;TZID=America/Mexico_City:20251228T133000
DTSTAMP:20260421T035145
CREATED:20251031T002525Z
LAST-MODIFIED:20251101T072846Z
UID:10001238-1766921400-1766928600@budismo.org.mx
SUMMARY:Taller Especial de Yoga Restaurativa: Cerrando el Año y Agradeciendo a Nuestro Cuerpo
DESCRIPTION:La yoga nos invita a conectarnos profundamente con nuestro cuerpo y mente. A medida que nos preparamos para la sesión es esencial recordar que nuestro cuerpo es un regalo y así expresar nuestra gratitud en la practica hacia nuestro cuerpo por ser el medio que nos permite experimentar la vida en toda su plenitud. \nA través del yoga\, tenemos la oportunidad de honrar y agradecer a cada parte de nosotros\, desde la punta de nuestros dedos hasta lo más profundo de nuestra mente. Al entrar en posturas\, respirar conscientemente y sentir la conexión con nosotros mismos\, reconocemos la sabiduría de nuestro cuerpo y expresamos nuestra gratitud por su capacidad de adaptación\, curación y resistencia. \nCada vez que nos estiramos\, flexionamos o simplemente nos quedamos en quietud\, estamos diciendo «gracias» a nuestro cuerpo por ser nuestro compañero en este viaje de la vida. \nAbierto a todo público
URL:https://budismo.org.mx/calendario/taller-especial-de-yoga-restaurativa-agradeciendo-a-nuestro-cuerpo-3/
LOCATION:Centro Budista Roma\, Jalapa 94\, esq. Tabasco\, Colonia Roma Norte\, CDMX\, 06700\, México
CATEGORIES:Actividades Destacadas,Talleres de Yoga,Yoga Restaurativa
ATTACH;FMTTYPE=image/jpeg:https://budismo.org.mx/wp-content/uploads/2025/05/yoga-001b.jpg
ORGANIZER;CN="Centro Budista Roma":MAILTO:contacto@budismo.com
END:VEVENT
BEGIN:VEVENT
DTSTART;TZID=America/Mexico_City:20251228T120000
DTEND;TZID=America/Mexico_City:20251228T140000
DTSTAMP:20260421T035145
CREATED:20251224T001152Z
LAST-MODIFIED:20251224T001152Z
UID:10001299-1766923200-1766930400@budismo.org.mx
SUMMARY:Taller Especial de Yoga: El Arte de Soltar
DESCRIPTION:Una clase para cerrar el año y acompañar\, desde el cuerpo\, el movimiento sutil entre soltar y permanecer. A través de una secuencia de posturas de yoga exploraremos cómo el cuerpo aprende a rendirse\, a permanecer y a dejar ir. \nDurante la práctica sostendremos el reto de quedarnos: observar lo que permanece\, abrirnos a la invitación de soltar y reconocer también aquello que nos sostiene en medio de las transciciones. \nUna clase para todos los niveles\, para habitar el cierre del año con presencia\, gratitud y suavidad \n \nAbierto a todo público
URL:https://budismo.org.mx/calendario/taller-especial-de-yoga-el-arte-de-soltar-2/
LOCATION:Centro Budista Roma\, Jalapa 94\, esq. Tabasco\, Colonia Roma Norte\, CDMX\, 06700\, México
CATEGORIES:Actividades Destacadas,Talleres de Yoga
ATTACH;FMTTYPE=image/jpeg:https://budismo.org.mx/wp-content/uploads/2021/04/yoga-presencial-02b.jpg
ORGANIZER;CN="Centro Budista Roma":MAILTO:contacto@budismo.com
END:VEVENT
END:VCALENDAR