BEGIN:VCALENDAR
VERSION:2.0
PRODID:-//Centro Budista de la Ciudad de México - ECPv6.5.0.1//NONSGML v1.0//EN
CALSCALE:GREGORIAN
METHOD:PUBLISH
X-WR-CALNAME:Centro Budista de la Ciudad de México
X-ORIGINAL-URL:https://budismo.org.mx
X-WR-CALDESC:Eventos para Centro Budista de la Ciudad de México
REFRESH-INTERVAL;VALUE=DURATION:PT1H
X-Robots-Tag:noindex
X-PUBLISHED-TTL:PT1H
BEGIN:VTIMEZONE
TZID:America/Mexico_City
BEGIN:STANDARD
TZOFFSETFROM:-0600
TZOFFSETTO:-0600
TZNAME:CST
DTSTART:20250101T000000
END:STANDARD
END:VTIMEZONE
BEGIN:VEVENT
DTSTART;TZID=America/Mexico_City:20251227T113000
DTEND;TZID=America/Mexico_City:20251227T133000
DTSTAMP:20260419T113841
CREATED:20251031T001557Z
LAST-MODIFIED:20251031T014025Z
UID:10001237-1766835000-1766842200@budismo.org.mx
SUMMARY:Taller Especial de Yoga: El Arte de Soltar
DESCRIPTION:Una clase para cerrar el año y acompañar\, desde el cuerpo\, el movimiento sutil entre soltar y permanecer. A través de una secuencia de posturas de yoga exploraremos cómo el cuerpo aprende a rendirse\, a permanecer y a dejar ir. \nDurante la práctica sostendremos el reto de quedarnos: observar lo que permanece\, abrirnos a la invitación de soltar y reconocer también aquello que nos sostiene en medio de las transciciones. \nUna clase para todos los niveles\, para habitar el cierre del año con presencia\, gratitud y suavidad \n \nAbierto a todo público
URL:https://budismo.org.mx/calendario/taller-especial-de-yoga-el-arte-de-soltar/
LOCATION:Centro Budista Roma\, Jalapa 94\, esq. Tabasco\, Colonia Roma Norte\, CDMX\, 06700\, México
CATEGORIES:Actividades Destacadas,Talleres de Yoga
ATTACH;FMTTYPE=image/jpeg:https://budismo.org.mx/wp-content/uploads/2021/04/yoga-presencial-02b.jpg
ORGANIZER;CN="Centro Budista Roma":MAILTO:contacto@budismo.com
END:VEVENT
END:VCALENDAR