BEGIN:VCALENDAR
VERSION:2.0
PRODID:-//Centro Budista de la Ciudad de México - ECPv6.5.0.1//NONSGML v1.0//EN
CALSCALE:GREGORIAN
METHOD:PUBLISH
X-WR-CALNAME:Centro Budista de la Ciudad de México
X-ORIGINAL-URL:https://budismo.org.mx
X-WR-CALDESC:Eventos para Centro Budista de la Ciudad de México
REFRESH-INTERVAL;VALUE=DURATION:PT1H
X-Robots-Tag:noindex
X-PUBLISHED-TTL:PT1H
BEGIN:VTIMEZONE
TZID:America/Mexico_City
BEGIN:STANDARD
TZOFFSETFROM:-0600
TZOFFSETTO:-0600
TZNAME:CST
DTSTART:20250101T000000
END:STANDARD
END:VTIMEZONE
BEGIN:VEVENT
DTSTART;VALUE=DATE:20251224
DTEND;VALUE=DATE:20251225
DTSTAMP:20260419T113822
CREATED:20251125T013054Z
LAST-MODIFIED:20251125T013055Z
UID:10001263-1766534400-1766620799@budismo.org.mx
SUMMARY:Aviso por cierre del CBCM
DESCRIPTION:Hola comunidad\,\nTe informamos de los días de cierre y actividades especiales que tendremos en las últimas semanas de Diciembre y principios de Enero. Tenemos un programa especial de fin de año de las clases abiertas de Yoga\, pregunta en recepción. \nFechas de Cierre:\nLos días 24\, 25\, 31 de Diciembre\, 2 y 3 de Enero\, el Centro Budista Roma se mantendrá cerrado\, únicamente contará con atención telefónica y WhatsApp en perído especial.\nLos demás días tendremos programa de Yoga Multinivel y Restaurativa así como los talleres especiales del mes.\n¡Consultalos y te esperamos! \nTodos los demás días contaremos con nuestras clases multinivel y restaurativa\, además de los talleres especiales de cierre de año.\n¡Te esperamos! \nMiércoles 1 de Enero:\nEste día el centro únicamente contará con actividades especiales.\n(Todas las actividades regulares de este día quedan suspendidas\, consulta el calendario de actividades para más información).\nA partir del sábado 3 de Enero 2025\, todas nuestras actividades se llevarán a cabo en sus horarios habituales. \nAgradecemos tu atención y te deseamos feliz cierre e inicio de Año.\nCentro Budista de la Ciudad de México \nPara más información a los Teléfonos:\n55 5525-0086\, 555 5525-4023.\nInscripciones en:\nWhatsApp / 55 5525-4023
URL:https://budismo.org.mx/calendario/aviso-por-cierre-del-cbcm-2-2/
LOCATION:Centro Budista Roma\, Jalapa 94\, esq. Tabasco\, Colonia Roma Norte\, CDMX\, 06700\, México
CATEGORIES:Actividades Destacadas
ATTACH;FMTTYPE=image/jpeg:https://budismo.org.mx/wp-content/uploads/2023/12/aviso.jpg
ORGANIZER;CN="Centro Budista Roma":MAILTO:contacto@budismo.com
END:VEVENT
END:VCALENDAR