BEGIN:VCALENDAR
VERSION:2.0
PRODID:-//Centro Budista de la Ciudad de México - ECPv6.5.0.1//NONSGML v1.0//EN
CALSCALE:GREGORIAN
METHOD:PUBLISH
X-WR-CALNAME:Centro Budista de la Ciudad de México
X-ORIGINAL-URL:https://budismo.org.mx
X-WR-CALDESC:Eventos para Centro Budista de la Ciudad de México
REFRESH-INTERVAL;VALUE=DURATION:PT1H
X-Robots-Tag:noindex
X-PUBLISHED-TTL:PT1H
BEGIN:VTIMEZONE
TZID:America/Mexico_City
BEGIN:STANDARD
TZOFFSETFROM:-0600
TZOFFSETTO:-0600
TZNAME:CST
DTSTART:20250101T000000
END:STANDARD
END:VTIMEZONE
BEGIN:VEVENT
DTSTART;TZID=America/Mexico_City:20251207T113000
DTEND;TZID=America/Mexico_City:20251207T133000
DTSTAMP:20260421T044539
CREATED:20251028T003551Z
LAST-MODIFIED:20251101T062324Z
UID:10001226-1765107000-1765114200@budismo.org.mx
SUMMARY:Taller Especial de Yoga: Cerrando el Año con Alegría y Gratitud
DESCRIPTION:A través de una secuencia de posturas que nos ayuden a conectar con nuestro cuerpo y sensaciones\, podemos conectar con aquello que nos ha dejado este año en nuestras vidas y también con los avances en nuestra practica de yoga. \nEn este Taller te invintamos a prácticar posturas de yoga con extensiones que abren el pecho y contactan con la alegría y gratitud para cerrar el año 2025.  \nAbierto a todo público
URL:https://budismo.org.mx/calendario/taller-especial-de-yoga-cerrando-el-con-alegria-y-gratitud/
LOCATION:Centro Budista Roma\, Jalapa 94\, esq. Tabasco\, Colonia Roma Norte\, CDMX\, 06700\, México
CATEGORIES:Actividades Destacadas,Talleres de Yoga
ATTACH;FMTTYPE=image/jpeg:https://budismo.org.mx/wp-content/uploads/2025/09/yoga-005b.jpg
ORGANIZER;CN="Centro Budista Roma":MAILTO:contacto@budismo.com
END:VEVENT
END:VCALENDAR