BEGIN:VCALENDAR
VERSION:2.0
PRODID:-//Centro Budista de la Ciudad de México - ECPv6.5.0.1//NONSGML v1.0//EN
CALSCALE:GREGORIAN
METHOD:PUBLISH
X-WR-CALNAME:Centro Budista de la Ciudad de México
X-ORIGINAL-URL:https://budismo.org.mx
X-WR-CALDESC:Eventos para Centro Budista de la Ciudad de México
REFRESH-INTERVAL;VALUE=DURATION:PT1H
X-Robots-Tag:noindex
X-PUBLISHED-TTL:PT1H
BEGIN:VTIMEZONE
TZID:America/Mexico_City
BEGIN:STANDARD
TZOFFSETFROM:-0600
TZOFFSETTO:-0600
TZNAME:CST
DTSTART:20250101T000000
END:STANDARD
END:VTIMEZONE
BEGIN:VEVENT
DTSTART;TZID=America/Mexico_City:20251117T120000
DTEND;TZID=America/Mexico_City:20251117T140000
DTSTAMP:20260423T051900
CREATED:20250927T015653Z
LAST-MODIFIED:20251007T015839Z
UID:10001206-1763380800-1763388000@budismo.org.mx
SUMMARY:Taller Especial de Yoga: Yoga para la Vida Diaria
DESCRIPTION:Este taller invita a descubrir cómo la práctica del yoga no termina al finalizar la clase\, sino que puede acompañarnos en cada momento de la vida. A través de posturas accesibles\, respiración consciente y breves ejercicios de atención plena\, exploraremos cómo cultivar equilibrio\, serenidad y energía en medio de las actividades cotidianas. \n¿A quién va dirigido?\nA cualquier persona interesada en el yoga —con o sin experiencia previa— que desee aprender a integrar sus principios en la vida diaria\, encontrando mayor bienestar físico\, claridad mental y calma. \nAbierto a todo público
URL:https://budismo.org.mx/calendario/taller-yoga-para-la-vida-diaria-mas-alla-del-tapete/
LOCATION:Centro Budista Roma\, Jalapa 94\, esq. Tabasco\, Colonia Roma Norte\, CDMX\, 06700\, México
CATEGORIES:Actividades Destacadas,Talleres de Yoga
ATTACH;FMTTYPE=image/jpeg:https://budismo.org.mx/wp-content/uploads/2025/09/yoga-005b.jpg
ORGANIZER;CN="Centro Budista Roma":MAILTO:contacto@budismo.com
END:VEVENT
BEGIN:VEVENT
DTSTART;TZID=America/Mexico_City:20251117T170000
DTEND;TZID=America/Mexico_City:20251117T184500
DTSTAMP:20260423T051900
CREATED:20250929T232829Z
LAST-MODIFIED:20251008T002109Z
UID:10001207-1763398800-1763405100@budismo.org.mx
SUMMARY:Taller Especial de Yoga Restaurativa: Descanso Profundo\, Serenando la Mente y el Cuerpo
DESCRIPTION:Este taller está diseñado para quienes sienten el peso del estrés y la ansiedad cotidiana. A través de las posturas de Yoga Restaurativa con el uso de apoyos como mantas\, cojines y bloques\, exploraremos asanas que invitan a la calma y al silencio interior. \nUna práctica perfecta para mejorar la calidad del sueño\, reducir la fatiga y reconectar con la serenidad. \nAbierto a todo público
URL:https://budismo.org.mx/calendario/taller-especial-de-yoga-restaurativa-descanso-profundo-serenando-la-mente-y-el-cuerpo/
LOCATION:Centro Budista Roma\, Jalapa 94\, esq. Tabasco\, Colonia Roma Norte\, CDMX\, 06700\, México
CATEGORIES:Actividades Destacadas,Talleres de Yoga,Yoga Restaurativa
ATTACH;FMTTYPE=image/jpeg:https://budismo.org.mx/wp-content/uploads/2022/02/yoga-restaurativa-02b.jpg
ORGANIZER;CN="Centro Budista Roma":MAILTO:contacto@budismo.com
END:VEVENT
END:VCALENDAR