BEGIN:VCALENDAR
VERSION:2.0
PRODID:-//Centro Budista de la Ciudad de México - ECPv6.5.0.1//NONSGML v1.0//EN
CALSCALE:GREGORIAN
METHOD:PUBLISH
X-ORIGINAL-URL:https://budismo.org.mx
X-WR-CALDESC:Eventos para Centro Budista de la Ciudad de México
REFRESH-INTERVAL;VALUE=DURATION:PT1H
X-Robots-Tag:noindex
X-PUBLISHED-TTL:PT1H
BEGIN:VTIMEZONE
TZID:America/Mexico_City
BEGIN:STANDARD
TZOFFSETFROM:-0600
TZOFFSETTO:-0600
TZNAME:CST
DTSTART:20250101T000000
END:STANDARD
END:VTIMEZONE
BEGIN:VEVENT
DTSTART;TZID=America/Mexico_City:20251101T113000
DTEND;TZID=America/Mexico_City:20251101T113000
DTSTAMP:20260423T051950
CREATED:20250926T202330Z
LAST-MODIFIED:20250929T210414Z
UID:10001195-1761996600-1761996600@budismo.org.mx
SUMMARY:Taller Especial Yoga Restaurativa: Liberando Tensiones en la Espalda Alta
DESCRIPTION:Este es un taller de un día dedicado a liberar la tensión acumulada en la espalda alta\, el cuello y los hombros. A través de posturas restaurativas\, usando apoyos cómodos y respiración consciente\, aprenderemos como podemos soltar las tensiones acumuladas y trabajaremos con las contracturas que se acumulan así cultivaremos descanso profundo y ligereza. \nAbierto a todo público
URL:https://budismo.org.mx/calendario/taller-especial-yoga-restaurativa-espalda-alta-soltar-y-descansar/
LOCATION:Centro Budista Roma\, Jalapa 94\, esq. Tabasco\, Colonia Roma Norte\, CDMX\, 06700\, México
CATEGORIES:Actividades Destacadas,Talleres de Yoga
ATTACH;FMTTYPE=image/jpeg:https://budismo.org.mx/wp-content/uploads/2025/09/taller-de-yoga-005b.jpg
ORGANIZER;CN="Centro Budista Roma":MAILTO:contacto@budismo.com
END:VEVENT
END:VCALENDAR