BEGIN:VCALENDAR
VERSION:2.0
PRODID:-//Centro Budista de la Ciudad de México - ECPv6.5.0.1//NONSGML v1.0//EN
CALSCALE:GREGORIAN
METHOD:PUBLISH
X-ORIGINAL-URL:https://budismo.org.mx
X-WR-CALDESC:Eventos para Centro Budista de la Ciudad de México
REFRESH-INTERVAL;VALUE=DURATION:PT1H
X-Robots-Tag:noindex
X-PUBLISHED-TTL:PT1H
BEGIN:VTIMEZONE
TZID:America/Mexico_City
BEGIN:STANDARD
TZOFFSETFROM:-0600
TZOFFSETTO:-0600
TZNAME:CST
DTSTART:20250101T000000
END:STANDARD
END:VTIMEZONE
BEGIN:VEVENT
DTSTART;TZID=America/Mexico_City:20250802T113000
DTEND;TZID=America/Mexico_City:20250802T133000
DTSTAMP:20260423T090024
CREATED:20250623T233950Z
LAST-MODIFIED:20250624T000450Z
UID:10001118-1754134200-1754141400@budismo.org.mx
SUMMARY:Taller Especial de Yoga Restaurativa: El Cuidado de tus Lumbares
DESCRIPTION:La zona lumbar está involucrada en muchos de nuestros movimientos diarios y\, por su ubicación y función\, es especialmente sensible a las tensiones. El estrés\, las malas posturas o ciertos hábitos pueden generar molestias o rigidez con facilidad. \nEste taller es una invitación a pausar\, escuchar y restaurar. A través de posturas suaves\, soporte con accesorios y una respiración consciente\, brindaremos alivio y espacio a la parte baja de la espalda. Trabajaremos con conciencia corporal para relajar la musculatura profunda\, soltar patrones de tensión y cultivar una sensación de seguridad y descanso. \nIdeal para personas con molestias leves\, tensiones recurrentes o que simplemente deseen cuidar esta zona vital del cuerpo con amabilidad y atención. \n \nAbierto a todo público
URL:https://budismo.org.mx/calendario/taller-especial-de-yoga-restaurativa-el-cuidado-de-tus-lumbares/
LOCATION:Centro Budista Roma\, Jalapa 94\, esq. Tabasco\, Colonia Roma Norte\, CDMX\, 06700\, México
CATEGORIES:Actividades Destacadas,Talleres de Yoga,Yoga Restaurativa
ATTACH;FMTTYPE=image/jpeg:https://budismo.org.mx/wp-content/uploads/2025/06/yoga-006b.jpg
ORGANIZER;CN="Centro Budista Roma":MAILTO:contacto@budismo.com
END:VEVENT
END:VCALENDAR