BEGIN:VCALENDAR
VERSION:2.0
PRODID:-//Centro Budista de la Ciudad de México - ECPv6.5.0.1//NONSGML v1.0//EN
CALSCALE:GREGORIAN
METHOD:PUBLISH
X-WR-CALNAME:Centro Budista de la Ciudad de México
X-ORIGINAL-URL:https://budismo.org.mx
X-WR-CALDESC:Eventos para Centro Budista de la Ciudad de México
REFRESH-INTERVAL;VALUE=DURATION:PT1H
X-Robots-Tag:noindex
X-PUBLISHED-TTL:PT1H
BEGIN:VTIMEZONE
TZID:America/Mexico_City
BEGIN:STANDARD
TZOFFSETFROM:-0600
TZOFFSETTO:-0600
TZNAME:CST
DTSTART:20250101T000000
END:STANDARD
END:VTIMEZONE
BEGIN:VEVENT
DTSTART;TZID=America/Mexico_City:20250705T113000
DTEND;TZID=America/Mexico_City:20250705T133000
DTSTAMP:20260423T101830
CREATED:20250607T012816Z
LAST-MODIFIED:20250617T032040Z
UID:10001110-1751715000-1751722200@budismo.org.mx
SUMMARY:Taller especial de Yoga: Posturas de equilibrio
DESCRIPTION:Ejercitar el equilibrio en la práctica de Yoga ayuda al cuerpo a generar fuerza y resistencia\, esto no sólo de forma física sino en todos los aspectos de tu vida. En este taller intensivo exploraremos diferentes posturas que nos proporcionen fuerza\, movilidad\, estabilidad y la fluidez en la práctica. \nAbierto a todo público.
URL:https://budismo.org.mx/calendario/taller-especial-de-yoga-posturas-de-equilibrio/
LOCATION:Centro Budista Roma\, Jalapa 94\, esq. Tabasco\, Colonia Roma Norte\, CDMX\, 06700\, México
CATEGORIES:Actividades Destacadas,Talleres de Yoga
ATTACH;FMTTYPE=image/jpeg:https://budismo.org.mx/wp-content/uploads/2022/12/taller-de-yoga-003b.jpg
ORGANIZER;CN="Centro Budista Roma":MAILTO:contacto@budismo.com
END:VEVENT
END:VCALENDAR