BEGIN:VCALENDAR
VERSION:2.0
PRODID:-//Centro Budista de la Ciudad de México - ECPv6.5.0.1//NONSGML v1.0//EN
CALSCALE:GREGORIAN
METHOD:PUBLISH
X-ORIGINAL-URL:https://budismo.org.mx
X-WR-CALDESC:Eventos para Centro Budista de la Ciudad de México
REFRESH-INTERVAL;VALUE=DURATION:PT1H
X-Robots-Tag:noindex
X-PUBLISHED-TTL:PT1H
BEGIN:VTIMEZONE
TZID:America/Mexico_City
BEGIN:STANDARD
TZOFFSETFROM:-0600
TZOFFSETTO:-0600
TZNAME:CST
DTSTART:20250101T000000
END:STANDARD
END:VTIMEZONE
BEGIN:VEVENT
DTSTART;TZID=America/Mexico_City:20250614T113000
DTEND;TZID=America/Mexico_City:20250614T133000
DTSTAMP:20260423T114951
CREATED:20250503T012154Z
LAST-MODIFIED:20250509T234852Z
UID:10001083-1749900600-1749907800@budismo.org.mx
SUMMARY:Taller especial de Yoga:  Equilibrio\, fuerza y propiocepción
DESCRIPTION:¿Qué es la Propiocepción? \nEste es el sistema que tiene el cuerpo para saber y conocer cuál es su posición y orientación en el espacio en el que se mueve. A través de esta fuente sensorial se provee la información necesaria para gestionar el control neuromuscular (activación muscular) y mejorar la estabilidad articular funcional de nuestro cuerpo en diferentes funciones como caminar\, estar de pie o estar acostados. \nEste taller de yoga buscaremos potenciar el equilibrio\, trabajarás específicamente con tu sistema propioceptivo\, visual y vestibular\, impulsaremos la capacidad del cuerpo para percibirse a sí mismo en el espacio y adaptarse. \nEsta práctica desafía el drishti (mantener un único enfoque con la mirada durante el trabajo de equilibrio)\, e incluso trabajarás para cerrar los ojos en las posturas de equilibrio. \n*Contraindicaciones:\nPersonas que padecen de vértigo. \nAbierto a todo público con cualquier nivel de experiencia.
URL:https://budismo.org.mx/calendario/taller-especial-de-yoga-equilibrio-fuerza-y-propiocepcion/
LOCATION:Centro Budista Roma\, Jalapa 94\, esq. Tabasco\, Colonia Roma Norte\, CDMX\, 06700\, México
CATEGORIES:Actividades Destacadas,Talleres de Yoga
ATTACH;FMTTYPE=image/jpeg:https://budismo.org.mx/wp-content/uploads/2025/05/yoga-003b.jpg
ORGANIZER;CN="Centro Budista Roma":MAILTO:contacto@budismo.com
END:VEVENT
END:VCALENDAR