BEGIN:VCALENDAR
VERSION:2.0
PRODID:-//Centro Budista de la Ciudad de México - ECPv6.5.0.1//NONSGML v1.0//EN
CALSCALE:GREGORIAN
METHOD:PUBLISH
X-WR-CALNAME:Centro Budista de la Ciudad de México
X-ORIGINAL-URL:https://budismo.org.mx
X-WR-CALDESC:Eventos para Centro Budista de la Ciudad de México
REFRESH-INTERVAL;VALUE=DURATION:PT1H
X-Robots-Tag:noindex
X-PUBLISHED-TTL:PT1H
BEGIN:VTIMEZONE
TZID:America/Mexico_City
BEGIN:STANDARD
TZOFFSETFROM:-0600
TZOFFSETTO:-0600
TZNAME:CST
DTSTART:20250101T000000
END:STANDARD
END:VTIMEZONE
BEGIN:VEVENT
DTSTART;TZID=America/Mexico_City:20250501T120000
DTEND;TZID=America/Mexico_City:20250501T140000
DTSTAMP:20260423T130108
CREATED:20250405T005927Z
LAST-MODIFIED:20250408T020017Z
UID:10001063-1746100800-1746108000@budismo.org.mx
SUMMARY:Día Especial de Yoga: Cuerpo y Mente en Calma\, Yoga para Soltar el Estrés
DESCRIPTION:Esta actividad se enfocará en una práctica integral para relajarte cuando necesites. Comenzaremos con un poco de trabajo de respiración para balancear el sistema nervioso y luego realizaremos movimientos conscientes basado en la respiración para descargar el estrés en los tejidos. El siguiente paso es un poco de liberación miofascial para que la espalda alta y las caderas se liberen relajándose\, seguido de un trabajo de respiración en savasana y para terminar una breve meditación. \nAbierto a todo público con cualquier nivel de experiencia.
URL:https://budismo.org.mx/calendario/dia-especial-de-yoga-cuerpo-y-mente-en-calma-yoga-para-soltar-el-estres/
LOCATION:Centro Budista Roma\, Jalapa 94\, esq. Tabasco\, Colonia Roma Norte\, CDMX\, 06700\, México
CATEGORIES:Actividades Destacadas,Talleres de Yoga
ATTACH;FMTTYPE=image/jpeg:https://budismo.org.mx/wp-content/uploads/2021/10/taller-yoga-espalda-01b.jpg
ORGANIZER;CN="Centro Budista Roma":MAILTO:contacto@budismo.com
END:VEVENT
END:VCALENDAR