BEGIN:VCALENDAR
VERSION:2.0
PRODID:-//Centro Budista de la Ciudad de México - ECPv6.5.0.1//NONSGML v1.0//EN
CALSCALE:GREGORIAN
METHOD:PUBLISH
X-WR-CALNAME:Centro Budista de la Ciudad de México
X-ORIGINAL-URL:https://budismo.org.mx
X-WR-CALDESC:Eventos para Centro Budista de la Ciudad de México
REFRESH-INTERVAL;VALUE=DURATION:PT1H
X-Robots-Tag:noindex
X-PUBLISHED-TTL:PT1H
BEGIN:VTIMEZONE
TZID:America/Mexico_City
BEGIN:STANDARD
TZOFFSETFROM:-0600
TZOFFSETTO:-0600
TZNAME:CST
DTSTART:20250101T000000
END:STANDARD
END:VTIMEZONE
BEGIN:VEVENT
DTSTART;TZID=America/Mexico_City:20250418T110000
DTEND;TZID=America/Mexico_City:20250418T130000
DTSTAMP:20260423T141654
CREATED:20250311T003240Z
LAST-MODIFIED:20250311T003241Z
UID:10001043-1744974000-1744981200@budismo.org.mx
SUMMARY:Día especial de Hatha Yoga en Viernes Festivo: Alineación y Consciencia
DESCRIPTION:En este taller trabajaremos la alineación física de práctica de asanas mientras descubrimos la consciencia de tu movilidad\, las resistencias\, de tu cuerpo y mente \, así como el reconocimiento de tus hábitos mentales y corporales que te ayudarán para que realices una práctica equilibrada. \nAbierto a todo público
URL:https://budismo.org.mx/calendario/dia-especial-de-hatha-yoga-en-viernes-festivo-alineacion-y-consciencia/
LOCATION:Centro Budista Roma\, Jalapa 94\, esq. Tabasco\, Colonia Roma Norte\, CDMX\, 06700\, México
CATEGORIES:Actividades Destacadas,Talleres de Yoga
ATTACH;FMTTYPE=image/jpeg:https://budismo.org.mx/wp-content/uploads/2024/04/taller-de-yoga-004b.jpg
ORGANIZER;CN="Centro Budista Roma":MAILTO:contacto@budismo.com
END:VEVENT
END:VCALENDAR