BEGIN:VCALENDAR
VERSION:2.0
PRODID:-//Centro Budista de la Ciudad de México - ECPv6.5.0.1//NONSGML v1.0//EN
CALSCALE:GREGORIAN
METHOD:PUBLISH
X-WR-CALNAME:Centro Budista de la Ciudad de México
X-ORIGINAL-URL:https://budismo.org.mx
X-WR-CALDESC:Eventos para Centro Budista de la Ciudad de México
REFRESH-INTERVAL;VALUE=DURATION:PT1H
X-Robots-Tag:noindex
X-PUBLISHED-TTL:PT1H
BEGIN:VTIMEZONE
TZID:America/Mexico_City
BEGIN:STANDARD
TZOFFSETFROM:-0600
TZOFFSETTO:-0600
TZNAME:CST
DTSTART:20250101T000000
END:STANDARD
END:VTIMEZONE
BEGIN:VEVENT
DTSTART;TZID=America/Mexico_City:20250317T120000
DTEND;TZID=America/Mexico_City:20250317T140000
DTSTAMP:20260425T064106
CREATED:20250211T202608Z
LAST-MODIFIED:20250211T202608Z
UID:10000954-1742212800-1742220000@budismo.org.mx
SUMMARY:Día especial de Hatha Yoga: Fuerza y Vitalidad\, Cultivando Energía desde el Interior
DESCRIPTION:En la práctica de Yoga se requiere de conectar con nuestra fuerza y vitalidad llevándola a las posturas para mantenerlas y así llegar a la profundidad deseada. \nA través de posturas de Yoga sostenidas\, técnicas de respiración y prácticas de atención plena\, exploraremos cómo el equilibrio entre esfuerzo y relajación puede ayudarnos a liberar tensiones acumuladas\, regular nuestro sistema nervioso. \nAbierto a todo público con cualquier nivel de experiencia.
URL:https://budismo.org.mx/calendario/dia-especial-de-hatha-yoga-fuerza-y-vitalidad-cultivando-energia-desde-el-interior/
LOCATION:Centro Budista Roma\, Jalapa 94\, esq. Tabasco\, Colonia Roma Norte\, CDMX\, 06700\, México
CATEGORIES:Actividades Destacadas,Especiales,Talleres de Yoga
ATTACH;FMTTYPE=image/jpeg:https://budismo.org.mx/wp-content/uploads/2024/05/dia-del-yga-01b.jpg
ORGANIZER;CN="Centro Budista Roma":MAILTO:contacto@budismo.com
END:VEVENT
END:VCALENDAR