BEGIN:VCALENDAR
VERSION:2.0
PRODID:-//Centro Budista de la Ciudad de México - ECPv6.5.0.1//NONSGML v1.0//EN
CALSCALE:GREGORIAN
METHOD:PUBLISH
X-WR-CALNAME:Centro Budista de la Ciudad de México
X-ORIGINAL-URL:https://budismo.org.mx
X-WR-CALDESC:Eventos para Centro Budista de la Ciudad de México
REFRESH-INTERVAL;VALUE=DURATION:PT1H
X-Robots-Tag:noindex
X-PUBLISHED-TTL:PT1H
BEGIN:VTIMEZONE
TZID:America/Mexico_City
BEGIN:STANDARD
TZOFFSETFROM:-0600
TZOFFSETTO:-0600
TZNAME:CST
DTSTART:20250101T000000
END:STANDARD
END:VTIMEZONE
BEGIN:VEVENT
DTSTART;TZID=America/Mexico_City:20250608T113000
DTEND;TZID=America/Mexico_City:20250608T133000
DTSTAMP:20260423T101521
CREATED:20250515T005542Z
LAST-MODIFIED:20250515T005542Z
UID:10001092-1749382200-1749389400@budismo.org.mx
SUMMARY:Taller especial de Yoga: Yoga para calmar la mente y despertar el corazón
DESCRIPTION:Posturas de apertura de pecho vistas desde la consciencia plena\nEste taller es una invitación a habitar el cuerpo con suavidad y presencia\, usando el yoga como puente entre la mente y el corazón. A través de posturas enfocadas en la apertura del pecho y la respiración consciente\, exploraremos cómo liberar tensiones mentales y emocionales que nos impiden conectar con nuestra sensibilidad. \nAbierto a todo público
URL:https://budismo.org.mx/calendario/taller-especial-de-yoga-yoga-para-calmar-la-mente-y-despertar-el-corazon/
LOCATION:Centro Budista Roma\, Jalapa 94\, esq. Tabasco\, Colonia Roma Norte\, CDMX\, 06700\, México
CATEGORIES:Actividades Destacadas,Talleres de Yoga
ATTACH;FMTTYPE=image/jpeg:https://budismo.org.mx/wp-content/uploads/2025/05/yoga-001b.jpg
ORGANIZER;CN="Centro Budista Roma":MAILTO:contacto@budismo.com
END:VEVENT
BEGIN:VEVENT
DTSTART;TZID=America/Mexico_City:20250614T113000
DTEND;TZID=America/Mexico_City:20250614T133000
DTSTAMP:20260423T101521
CREATED:20250503T012154Z
LAST-MODIFIED:20250509T234852Z
UID:10001083-1749900600-1749907800@budismo.org.mx
SUMMARY:Taller especial de Yoga:  Equilibrio\, fuerza y propiocepción
DESCRIPTION:¿Qué es la Propiocepción? \nEste es el sistema que tiene el cuerpo para saber y conocer cuál es su posición y orientación en el espacio en el que se mueve. A través de esta fuente sensorial se provee la información necesaria para gestionar el control neuromuscular (activación muscular) y mejorar la estabilidad articular funcional de nuestro cuerpo en diferentes funciones como caminar\, estar de pie o estar acostados. \nEste taller de yoga buscaremos potenciar el equilibrio\, trabajarás específicamente con tu sistema propioceptivo\, visual y vestibular\, impulsaremos la capacidad del cuerpo para percibirse a sí mismo en el espacio y adaptarse. \nEsta práctica desafía el drishti (mantener un único enfoque con la mirada durante el trabajo de equilibrio)\, e incluso trabajarás para cerrar los ojos en las posturas de equilibrio. \n*Contraindicaciones:\nPersonas que padecen de vértigo. \nAbierto a todo público con cualquier nivel de experiencia.
URL:https://budismo.org.mx/calendario/taller-especial-de-yoga-equilibrio-fuerza-y-propiocepcion/
LOCATION:Centro Budista Roma\, Jalapa 94\, esq. Tabasco\, Colonia Roma Norte\, CDMX\, 06700\, México
CATEGORIES:Actividades Destacadas,Talleres de Yoga
ATTACH;FMTTYPE=image/jpeg:https://budismo.org.mx/wp-content/uploads/2025/05/yoga-003b.jpg
ORGANIZER;CN="Centro Budista Roma":MAILTO:contacto@budismo.com
END:VEVENT
BEGIN:VEVENT
DTSTART;TZID=America/Mexico_City:20250616T170000
DTEND;TZID=America/Mexico_City:20250616T184500
DTSTAMP:20260423T101521
CREATED:20240427T005929Z
LAST-MODIFIED:20250506T225449Z
UID:10000685-1750093200-1750099500@budismo.org.mx
SUMMARY:Taller de Yoga Restaurativa: para Rodillas
DESCRIPTION:Las rodillas son una de las articulaciones más vulnerables del cuerpo por ser sometidas a muchas tensiones y presiones. El diseño de la rodilla resulta tan complejo que\, en caso de lesión\, el proceso de recuperación puede prolongarse durante varios meses y en circunstancias graves\, incluso se producen daños irreparables. \nEste taller está dirigido a personas con padecimientos o dolor en sus rodillas así como a practicantes de yoga que quieran conocer cómo cuidar de las mismas durante su práctica. \nAprenderemos ejercicios que ayudarán a disminuir las molestias en caso de lesión\, la alineación de la articulación y la prevención para evitar futuras lesiones o un mayor daño. \nImportante: traer shorts\, bermudas o licras para que el maestro pueda observar tus rodillas. \nAbierto a todo público con cualquier nivel de experiencia
URL:https://budismo.org.mx/calendario/taller-de-yoga-restaurativa-rodillas/
LOCATION:Centro Budista Roma\, Jalapa 94\, esq. Tabasco\, Colonia Roma Norte\, CDMX\, 06700\, México
CATEGORIES:Actividades Destacadas,Yoga Restaurativa
ATTACH;FMTTYPE=image/jpeg:https://budismo.org.mx/wp-content/uploads/2021/08/rodillas-01b.jpg
ORGANIZER;CN="Centro Budista Roma":MAILTO:contacto@budismo.com
END:VEVENT
BEGIN:VEVENT
DTSTART;TZID=America/Mexico_City:20250628T090000
DTEND;TZID=America/Mexico_City:20250628T090000
DTSTAMP:20260423T101521
CREATED:20250506T232817Z
LAST-MODIFIED:20250510T014506Z
UID:10001089-1751101200-1751101200@budismo.org.mx
SUMMARY:Sesiones especiales de Yoga Restaurativa
DESCRIPTION:En estas sesiones de yoga restaurativo\, nos embarcamos en un recorrido a través del cuerpo para lograr relajación y reconexión. \nRecorreremos diferentes posturas que nos ayuden a anclarnos a la tierra\, suavizando las tensiones desde los pies hasta la pelvis\, nutriendo la estabilidad y arraigo. Posturas de apertura del corazón y los hombros\, liberando cargas emocionales y físicas\, abriendo el pecho hacia la expansión y la libertad. Ademas de sumergirnos en la relajación profunda\, integrando todas las áreas del cuerpo\, permitiendo que la calma y la restauración se extiendan por todo nuestro ser. \n*Puedes tomar el paquete de 3 sesiones o asistir por sesión. \nAbierto a todo público.
URL:https://budismo.org.mx/calendario/sesiones-especiales-de-yoga-restaurativa-2/
LOCATION:Centro Budista Roma\, Jalapa 94\, esq. Tabasco\, Colonia Roma Norte\, CDMX\, 06700\, México
CATEGORIES:Actividades Destacadas,Yoga Restaurativa
ATTACH;FMTTYPE=image/jpeg:https://budismo.org.mx/wp-content/uploads/2024/07/yoga-009b.jpg
ORGANIZER;CN="Centro Budista Roma":MAILTO:contacto@budismo.com
END:VEVENT
END:VCALENDAR