BEGIN:VCALENDAR
VERSION:2.0
PRODID:-//Centro Budista de la Ciudad de México - ECPv6.5.0.1//NONSGML v1.0//EN
CALSCALE:GREGORIAN
METHOD:PUBLISH
X-WR-CALNAME:Centro Budista de la Ciudad de México
X-ORIGINAL-URL:https://budismo.org.mx
X-WR-CALDESC:Eventos para Centro Budista de la Ciudad de México
REFRESH-INTERVAL;VALUE=DURATION:PT1H
X-Robots-Tag:noindex
X-PUBLISHED-TTL:PT1H
BEGIN:VTIMEZONE
TZID:America/Mexico_City
BEGIN:STANDARD
TZOFFSETFROM:-0600
TZOFFSETTO:-0600
TZNAME:CST
DTSTART:20250101T000000
END:STANDARD
END:VTIMEZONE
BEGIN:VEVENT
DTSTART;TZID=America/Mexico_City:20250405T113000
DTEND;TZID=America/Mexico_City:20250405T113000
DTSTAMP:20260423T125758
CREATED:20250308T002121Z
LAST-MODIFIED:20250308T010613Z
UID:10001036-1743852600-1743852600@budismo.org.mx
SUMMARY:Taller especial de Yoga para Regulares: Estabilidad y Contento\, la Fuerza que Nutre el Corazón
DESCRIPTION:En estas dos sesiónes de yoga\, exploraremos cómo la estabilidad y la fuerza en nuestro cuerpo pueden generar una profunda sensación de bienestar y contento interior. \nA través de una práctica enfocada en la estabilidad\, el equilibrio y la consciencia corporal\, descubrirás como enraizarte con firmeza te permite abrir el corazón y cultivar una energía serena y expansiva. \n*Para personas que hayan terminado un curso de yoga principiantes y tengan una paractica regular.
URL:https://budismo.org.mx/calendario/taller-especial-de-yoga-para-regulares-estabilidad-y-contento-la-fuerza-que-nutre-el-corazon-2/
LOCATION:Centro Budista Roma\, Jalapa 94\, esq. Tabasco\, Colonia Roma Norte\, CDMX\, 06700\, México
CATEGORIES:Actividades Destacadas,Talleres de Yoga
ATTACH;FMTTYPE=image/jpeg:https://budismo.org.mx/wp-content/uploads/2022/03/taller-yoga-10104b.jpg
ORGANIZER;CN="Centro Budista Roma":MAILTO:contacto@budismo.com
END:VEVENT
BEGIN:VEVENT
DTSTART;TZID=America/Mexico_City:20250406T113000
DTEND;TZID=America/Mexico_City:20250406T113000
DTSTAMP:20260423T125758
CREATED:20250308T001056Z
LAST-MODIFIED:20250308T011333Z
UID:10001033-1743939000-1743939000@budismo.org.mx
SUMMARY:Taller  Especial de Yoga Prenatal: Esperando a mi bebé
DESCRIPTION:En este taller practicaremos asanas (posturas de yoga) de forma segura y adecuada para las futuras mamás para que puedan disfrutar de su embarazo aumentando la consciencia corporal y los vínculos mamá – bebé. \nTambién en esta sesión encontarás beneficios al disminuir los malestares comunes del embarazo y para preparar nuestro cuerpo para el parto. Lograremos contactar con las emociones aprendiendo a manejarlas de mejor manera. \nAbierto a futuras mamás con mínimo 12 semanas cumplidas de gestación\, que no cuenten con ninguna contraindicación médica.\nNo se requiere experiencia previa en yoga.
URL:https://budismo.org.mx/calendario/taller-especial-de-yoga-prenatal-esperando-a-mi-bebe/
LOCATION:Centro Budista Roma\, Jalapa 94\, esq. Tabasco\, Colonia Roma Norte\, CDMX\, 06700\, México
CATEGORIES:Actividades Destacadas,Talleres de Yoga
ATTACH;FMTTYPE=image/jpeg:https://budismo.org.mx/wp-content/uploads/2025/03/yoga-001b.jpg
ORGANIZER;CN="Centro Budista Roma":MAILTO:contacto@budismo.com
END:VEVENT
BEGIN:VEVENT
DTSTART;TZID=America/Mexico_City:20250418T110000
DTEND;TZID=America/Mexico_City:20250418T130000
DTSTAMP:20260423T125758
CREATED:20250311T003240Z
LAST-MODIFIED:20250311T003241Z
UID:10001043-1744974000-1744981200@budismo.org.mx
SUMMARY:Día especial de Hatha Yoga en Viernes Festivo: Alineación y Consciencia
DESCRIPTION:En este taller trabajaremos la alineación física de práctica de asanas mientras descubrimos la consciencia de tu movilidad\, las resistencias\, de tu cuerpo y mente \, así como el reconocimiento de tus hábitos mentales y corporales que te ayudarán para que realices una práctica equilibrada. \nAbierto a todo público
URL:https://budismo.org.mx/calendario/dia-especial-de-hatha-yoga-en-viernes-festivo-alineacion-y-consciencia/
LOCATION:Centro Budista Roma\, Jalapa 94\, esq. Tabasco\, Colonia Roma Norte\, CDMX\, 06700\, México
CATEGORIES:Actividades Destacadas,Talleres de Yoga
ATTACH;FMTTYPE=image/jpeg:https://budismo.org.mx/wp-content/uploads/2024/04/taller-de-yoga-004b.jpg
ORGANIZER;CN="Centro Budista Roma":MAILTO:contacto@budismo.com
END:VEVENT
BEGIN:VEVENT
DTSTART;TZID=America/Mexico_City:20250419T090000
DTEND;TZID=America/Mexico_City:20250419T090000
DTSTAMP:20260423T125758
CREATED:20250311T004056Z
LAST-MODIFIED:20250311T234216Z
UID:10001044-1745053200-1745053200@budismo.org.mx
SUMMARY:Taller Especial de Yoga Restaurativa: Nervio Vago
DESCRIPTION:El nervio vago forma parte de los doce pares craneales de nuestro sistema nervioso\, este ayuda a regular una serie de funciones necesarias para mantener la homeostasis (equilibrio) en el organismo. \nCuando existe una desregulación del nervio vago entre su rama dorsal\, ventral y la cadena simpática\, se experimentan una serie de estados emocionales y fisiológicos alterados que pueden ir de los estados de híper activación (estrés crónico\, irritabilidad\, ansiedad\, etc.) hasta estados de hipo activación (depresión\, desconexión\, baja energía). \nUna de las principales funciones del nervio vago es la de apoyar los estados de calma\, de facilitar el descanso y la relajación. \nEn este taller se abordarán diferentes posturas restaurativas que contribuyen a regular la función del nervio vago a través de masajes\, respiración y otras estrategias prácticas y sencillas que pueden aplicarse en la vida cotidiana. \nAbierto a todo público
URL:https://budismo.org.mx/calendario/taller-especial-de-yoga-restaurativa-nervio-vago/
LOCATION:Centro Budista Roma\, Jalapa 94\, esq. Tabasco\, Colonia Roma Norte\, CDMX\, 06700\, México
CATEGORIES:Actividades Destacadas,Talleres de Yoga
ATTACH;FMTTYPE=image/jpeg:https://budismo.org.mx/wp-content/uploads/2024/07/yoga-002b.jpg
ORGANIZER;CN="Centro Budista Roma":MAILTO:contacto@budismo.com
END:VEVENT
BEGIN:VEVENT
DTSTART;TZID=America/Mexico_City:20250420T113000
DTEND;TZID=America/Mexico_City:20250420T133000
DTSTAMP:20260423T125758
CREATED:20250311T005716Z
LAST-MODIFIED:20250311T234900Z
UID:10001046-1745148600-1745155800@budismo.org.mx
SUMMARY:Taller especial de Yoga Restaurativa: El cuidado de la espalda
DESCRIPTION:La estructura principal de la espalda es la columna vertebral\, que sostiene el peso del cuerpo humano\, por ello es clave en nuestro estado de salud en general. El Yoga Restaurativo puede proveer alivio a través de posturas ayudando en el tratamiento a mediano plazo de algunos padecimientos de la columna vertebral. \nEn este taller aprenderemos a cuidar nuestra espalda y las posturas que necesitamos para tener una espalda saludable. \nAbierto a todo público
URL:https://budismo.org.mx/calendario/taller-especial-de-yoga-restaurativa-el-cuidado-de-la-espalda-4/
LOCATION:Anexo de Coyoacán\, Francisco Sosa 29\, Colonia Del Carmen\, CDMX\, 04100\, México
CATEGORIES:Actividades Destacadas,Yoga Restaurativa
ATTACH;FMTTYPE=image/jpeg:https://budismo.org.mx/wp-content/uploads/2024/11/yoga-005e.jpg
ORGANIZER;CN="Centro Budista Roma":MAILTO:contacto@budismo.com
END:VEVENT
BEGIN:VEVENT
DTSTART;TZID=America/Mexico_City:20250426T090000
DTEND;TZID=America/Mexico_City:20250426T090000
DTSTAMP:20260423T125758
CREATED:20250311T012552Z
LAST-MODIFIED:20250321T203929Z
UID:10001049-1745658000-1745658000@budismo.org.mx
SUMMARY:Clases Especiales Yoga Restaurativa: Cuidando tu Cuerpo
DESCRIPTION:En estas sesiones de yoga restaurativo\, nos embarcamos en un recorrido a través del cuerpo para lograr relajación y reconexión. \nRecorreremos diferentes posturas que nos ayuden a anclarnos a la tierra\, suavizando las tensiones desde los pies hasta la pelvis\, nutriendo la estabilidad y arraigo. Posturas de apertura del corazón y los hombros\, liberando cargas emocionales y físicas\, abriendo el pecho hacia la expansión y la libertad. Ademas de sumergirnos en la relajación profunda\, integrando todas las áreas del cuerpo\, permitiendo que la calma y la restauración se extiendan por todo nuestro ser. \n*Puedes tomar el paquete de 3 sesiones o asistir por sesión. \nAbierto a todo público.
URL:https://budismo.org.mx/calendario/clases-especiales-yoga-restaurativa-cuidando-tu-cuerpo/
LOCATION:Centro Budista Roma\, Jalapa 94\, esq. Tabasco\, Colonia Roma Norte\, CDMX\, 06700\, México
CATEGORIES:Actividades Destacadas,Talleres de Yoga,Yoga Restaurativa
ATTACH;FMTTYPE=image/jpeg:https://budismo.org.mx/wp-content/uploads/2025/03/yoga-restaurativa-002b.jpg
ORGANIZER;CN="Centro Budista Roma":MAILTO:contacto@budismo.com
END:VEVENT
BEGIN:VEVENT
DTSTART;TZID=America/Mexico_City:20250430T190000
DTEND;TZID=America/Mexico_City:20250430T190000
DTSTAMP:20260423T125758
CREATED:20240326T001040Z
LAST-MODIFIED:20250312T001929Z
UID:10000659-1746039600-1746039600@budismo.org.mx
SUMMARY:Colecta Karuna del Día del niño\, Abril 2025
DESCRIPTION:«La colecta la hacemos todos\, entre más cosas\nreunamos más y mejor podremos ayudar». \nMovimiento Karuna te invita a que participes en esta colecta\, con tus donativos no sólo se benefician las personas que apoyamos\, sino también nosotros al experimentar y desarrollar valores como el amor y la compasión (Metta «Amor desinteresado» y Karuna «Compasión»). \nMetta y Karuna son dos emociones muy importantes para el Budismo\, cuando el amor desinteresado se encuentra con el sufrimiento surge la compasión; la necesidad de ayudar y preocuparnos por el bienestar de otros. \nTe invitamos a la colecta del día del niño\, durante todo marzo y abril reuniremos todo tipo de dulces y juguetes nuevos. Estos serán entregados los primeros días de mayo a casas cuna\, casas hogar e instituciones que atienden a niños en riesgo de calle\, sin padres o con alguna discapacidad.  \nMovimiento Budista Karuna\, es un proyecto del Centro Budista de la Ciudad de México formado  por personas que asisten a sus actividades y se reconocen budistas en el cual a través de pláticas\, días  de meditación y colectas en especie queremos desarrollar emociones positivas que nos ayudan a  actuar más creativamente ante el sufrimiento de personas que necesitan un poco de ayuda. \nGracias por tu participación. \nCentro de acopio: \nCentro Budista de la Ciudad de México Roma\nJalapa 94\, esq. Tabasco\, Col. Roma Norte (a una cuadra de av. Álvaro Obregón)\nTel. 5525 4023 / 5525 0086 \nPara cualquier aclaración\, pregunta o información contacta a:\nDh. Viryakirti\nCoordinador de la colecta Karuna\nTels: 5525 4023 / 5525 0086\ncontacto@budismo.org.mx \nNota: Este es un esfuerzo  individual de personas que atienden las actividades del CBCM  y no pretende abstención de impuestos o promoción de institución alguna en particular.
URL:https://budismo.org.mx/calendario/colecta-karuna-del-dia-del-nino/
LOCATION:Centro Budista Roma\, Jalapa 94\, esq. Tabasco\, Colonia Roma Norte\, CDMX\, 06700\, México
CATEGORIES:Actividades Destacadas,Especiales
ATTACH;FMTTYPE=image/jpeg:https://budismo.org.mx/wp-content/uploads/2024/03/ckaruna-Abril-2025.jpg
ORGANIZER;CN="Centro Budista Roma":MAILTO:contacto@budismo.com
END:VEVENT
END:VCALENDAR