BEGIN:VCALENDAR
VERSION:2.0
PRODID:-//Centro Budista de la Ciudad de México - ECPv6.5.0.1//NONSGML v1.0//EN
CALSCALE:GREGORIAN
METHOD:PUBLISH
X-ORIGINAL-URL:https://budismo.org.mx
X-WR-CALDESC:Eventos para Centro Budista de la Ciudad de México
REFRESH-INTERVAL;VALUE=DURATION:PT1H
X-Robots-Tag:noindex
X-PUBLISHED-TTL:PT1H
BEGIN:VTIMEZONE
TZID:America/Mexico_City
BEGIN:STANDARD
TZOFFSETFROM:-0600
TZOFFSETTO:-0600
TZNAME:CST
DTSTART:20230101T000000
END:STANDARD
END:VTIMEZONE
BEGIN:VEVENT
DTSTART;TZID=America/Mexico_City:20231230T113000
DTEND;TZID=America/Mexico_City:20231230T140000
DTSTAMP:20260422T024621
CREATED:20231204T232606Z
LAST-MODIFIED:20231212T004426Z
UID:10000013-1703935800-1703944800@budismo.org.mx
SUMMARY:Día especial de Yoga de Cierre de año
DESCRIPTION:Queremos agradecer a todos los participantes por su dedicación y compromiso con su práctica en el Centro Budista de la Ciudad de México. \nA lo largo del año y de nuestro acercamiento a la práctica del Yoga hemos recorrido un camino de autoconocimiento\, transformación y crecimiento personal. Cada asana\, cada respiración consciente y cada momento en las clases nos han llevado a sentirnos más saludables y en calma. \nEste cierre de año queremos marcarlo con estos talleres especiales que son una oportunidad para reflexionar sobre todo lo que hemos aprendido\, experimentado y compartido juntos. Y para recordar que el yoga no es solo una serie de posturas\, sino una filosofía de vida que nos ayuda a vivir en armonía con nosotros mismos y con el mundo que nos rodea. Sigamos nutriendo nuestro cuerpo y mente con amor y gratitud\, y que nuestra practica de yoga continúe guiándonos en nuestro camino hacia una vida más plena y significativa. \nAbierto a todo público
URL:https://budismo.org.mx/calendario/dia-especial-de-yoga-de-cierre/
LOCATION:Centro Budista Roma\, Jalapa 94\, esq. Tabasco\, Colonia Roma Norte\, CDMX\, 06700\, México
CATEGORIES:Talleres de Yoga
ATTACH;FMTTYPE=image/jpeg:https://budismo.org.mx/wp-content/uploads/2022/07/yoga-principiantes-104b.jpg
ORGANIZER;CN="Centro Budista Roma":MAILTO:contacto@budismo.com
END:VEVENT
END:VCALENDAR