BEGIN:VCALENDAR
VERSION:2.0
PRODID:-//Centro Budista de la Ciudad de México - ECPv6.5.0.1//NONSGML v1.0//EN
CALSCALE:GREGORIAN
METHOD:PUBLISH
X-WR-CALNAME:Centro Budista de la Ciudad de México
X-ORIGINAL-URL:https://budismo.org.mx
X-WR-CALDESC:Eventos para Centro Budista de la Ciudad de México
REFRESH-INTERVAL;VALUE=DURATION:PT1H
X-Robots-Tag:noindex
X-PUBLISHED-TTL:PT1H
BEGIN:VTIMEZONE
TZID:America/Mexico_City
BEGIN:STANDARD
TZOFFSETFROM:-0600
TZOFFSETTO:-0600
TZNAME:CST
DTSTART:20230101T000000
END:STANDARD
END:VTIMEZONE
BEGIN:VEVENT
DTSTART;TZID=America/Mexico_City:20231229T160000
DTEND;TZID=America/Mexico_City:20231229T160000
DTSTAMP:20260420T065735
CREATED:20231202T013144Z
LAST-MODIFIED:20231206T044554Z
UID:10000010-1703865600-1703865600@budismo.org.mx
SUMMARY:Retiro de Yoga y Mindfulness
DESCRIPTION:La Atención Plena o Mindfulness es una práctica budista que tiene un efecto importante en nuestra vida diaria. Momento a momento\, esta práctica trata de ir desarrollando mayor conciencia sin hacer juicios\, para vivir en armonía con nosotros mismos y con los demás. \nEn nuestra vida cotidiana\, la mayor parte del tiempo estamos bastante ocupados\, incluso haciendo varias cosas al mismo tiempo. Este comportamiento puede conducir al agotamiento crónico\, a la ansiedad y al estrés. En estos momentos\, es donde entra la práctica de Mindfulness\, la cual nos hace regresar al momento presente. \nEn este retiro a través de la práctica de yoga y del movimiento consciente\, conectarás con tu cuerpo y tu respiración;  de esta forma nos daremos cuenta que en el momento presente se encuentra la tranquilidad que nuestro cuerpo y mente necesitan. \nAbierto a todo público con cualquier nivel de experiencia. \n\n10% de descuento\, en cualquier forma de pago\, aplicable sólo hasta el 19 de diciembre. \n**La quinta el «Zopilote» Cuenta con amplias y cómodas habitaciones\, un amplio salón de conferencias y hermosos jardines en los que disfrutará de un ambiente de paz e introspección. \nMapa para descargar \nLeer más... \n\n\nLugar:\nQuinta El Zopilote es un centro de retiros que le ofrecerá todas las atenciones y servicios que desean para su estancia. Cuenta con cómodas habitaciones\, un amplio salón de conferencias y hermosos jardines en los que disfrutará de un ambiente de paz e introspección. \n¿Qué Llevar?\nRopa cómoda y sencilla por varios días; incluye algo abrigador\, zapatos de fácil poner y quitar y artículos de baño. \n¿Cómo llegar en Automóvil?\nToma la autopista México-Cuernavaca\, pasa la entrada a la ciudad de Cuernavaca y 20 minutos después (ó 15 km aprox.) toma la desviación que indica la salida hacia el Aeropuerto-Tepetzingo\, (justo donde acaba el Tec de Monterrey Campu Cuernavaca). Sigue por dicho camino por otros 100 m pasando la caseta ($10) da vuelta en “U” hacia la izquierda y sigue derecho hasta el primer semáforo (verás una estación de Hidrogas) justo ahí da vuelta a la derecha. Continua derecho por otros aprox. 1.7 km\, pasando el cruce de semáforos continua derecho aprox. otros 2 km en los que encontrarás una curva ligera y otra pronunciada. Una vez saliendo de esa curva en encontrarás la salida a Atlacholoaya\, da vuelta a la derecha. Sigue derecho por el camino por aprox. 2.4 km y pasando una cancha de fútbol verás que el camino se bifurca; toma el lado izquierdo. Inmediatamente después atraviesa el pequeño puente y en la primera esquina da vuelta a la izquierda\, en la siguiente calle de nuevo da vuelta a la izquierda. Aprox. a 400 m de tu lado izquierdo encontrarás Quinta el Zopilote (es un portón de madera y una barda de ladrillo con un letrero pequeño). \n¿Cómo llegar en Autobús?\nIr a la estación de autobuses del sur Taxqueña. Tomar el camión Pullman de Morelos directo al poblado de Chiconcuac (Ojo Chiconcuac\, dentro del municipio de Xochitepec en Morelos\, no el que vende suéteres). Llegando a la estación de Chiconcuac\, Morelos tomar un taxi para Quinta el Zopilote que esta en: Calle San José S/N colonia el calvario\, rumbo a Tlacholuaya.
URL:https://budismo.org.mx/calendario/retiro-de-yoga-y-mindfulness/
LOCATION:Centro Budista Roma\, Jalapa 94\, esq. Tabasco\, Colonia Roma Norte\, CDMX\, 06700\, México
CATEGORIES:Retiros
ATTACH;FMTTYPE=image/jpeg:https://budismo.org.mx/wp-content/uploads/2022/12/yogamind.jpg
ORGANIZER;CN="Centro Budista Roma":MAILTO:contacto@budismo.com
END:VEVENT
BEGIN:VEVENT
DTSTART;TZID=America/Mexico_City:20231229T160000
DTEND;TZID=America/Mexico_City:20231229T160000
DTSTAMP:20260420T065735
CREATED:20231202T013343Z
LAST-MODIFIED:20231206T044624Z
UID:10000011-1703865600-1703865600@budismo.org.mx
SUMMARY:Retiro de fin de año de Budismo y Meditación: Cerrando ciclos\, abriendo nuevas posibilidades
DESCRIPTION:Hay muchas enseñanzas budistas que podemos estudiar y reflexionar encontrando bellos significados y que nos ayudan a comprender alguna situación por la que estamos pasando\, a la vez de mostrarnos como podremos salir de ellas. Este año ha tenido sus desafíos tanto personales como a nivel de sociedad y necesitamos darle una mirada a un camino espiritual que nos de las herramientas para trabajar con las emociones que se despertaron\, aprendiendo a cerrar los ciclos y preparándonos para el siguiente. \nEn este retiro a partir de enseñanzas budistas\, de meditación\, charlas\, ceremonias tradicionales budistas con canto de Mantras y tiempo libre podremos recuperar la energía\, cerrar el año y preparar la mejor actitud para el próximo período que viene. \nEste retiro comenzará con la cena que se servirá a las 19:00 hrs. (se podrá llegar a partir de las 16:00 hrs.) y culminará después del desayuno. \nNota: la Abadía de Nuestra Señora de los Ángeles cierra sus puertas a las 21:00 hrs. y vuelve a abrirlas a las 7:00 hrs.\, toma tus precauciones para llegar antes de la hora de cierre o al día siguiente antes de las 09:00 hrs. \nAbierto a todo público con cualquier nivel de experiencia. \nLeer más... \n\n\nLugar:\nLa Abadía de Nuestra Señora de los Ángeles es un lugar que aporta la experiencia de amplitud y espacio natural. La hospedería se compone de 50 habitaciones dobles con baño\, las cuales forman un semicírculo en el cual se encuentra el área verde arbolada de esta hospedería. Toda esta zona es rodeada por 20 hectáreas de espacios verdes las cuales eran usadas antiguamente por los monjes benedictinos de este monasterio para el cultivo. \nNota: La Abadía de Nuestra Señora de los Ángeles cierra sus puertas a las 21:30 hrs. y vuelve a abrirlas a partir de las 6:30 hrs.\, toma tus precauciones para llegar antes de la hora de cierre o bien al día siguiente. \n¿Qué Llevar?\nRopa cómoda y sencilla por varios días; incluye algo abrigador\, zapatos de fácil poner y quitar\, toalla personal y artículos de baño. \n¿Cómo llegar?\nEl camión se tiene que tomar en la central sur de Taxqueña\, el que va a Cuernavaca (muy importante: asegúrate que éste va al Casino de la selva y que hace bajada en la Glorieta de la Paz (o glorieta de la paloma)\, que es el monumento que anuncia que ya entraste a la ciudad. Asegúrate que haga la parada\, pregunta por uno que la haga. Un detalle importante es tratar de tener tu equipaje a la mano junto a ti o no te permitirá bajarte en la Glorieta de la Paz. Al entrar a la ciudad de Cuernavaca\, ya estando en la glorieta de la Paz\, toma un taxi o una pesera que te lleve al km. 4 del poblado de Cuernavaca-Oaxtepec o Carretera Cuernavaca-Tepoztlán. Son cerca de 7 u 8 min. manejando. Fíjate a la derecha\, cuando veas un letrero “Monasterio Benedictino o Abadía de Nuestra Señora de los Ángeles” ahí da vuelta a la izquierda\, es una calle pequeña que va de subida\, al fondo se encuentra la abadía. Al llegar a la reja de éste diles que vas a la Hospedería y continúa cuesta arriba cuando veas una cruz gris\, da vuelta a la izquierda y ahí encontrarás la Hospedería. Si vas en coche toma la carretera de cuota y sigue las mismas indicaciones al llegar a la Glorieta de la Paz.
URL:https://budismo.org.mx/calendario/retiro-de-fin-de-ano-de-budismo-y-meditacion-cerrando-ciclos-abriendo-nuevas-posibilidades/
LOCATION:Centro Budista Roma\, Jalapa 94\, esq. Tabasco\, Colonia Roma Norte\, CDMX\, 06700\, México
CATEGORIES:Retiros
ATTACH;FMTTYPE=image/jpeg:https://budismo.org.mx/wp-content/uploads/2018/05/retiro-jovenes-amistad-001a.jpg
ORGANIZER;CN="Centro Budista Roma":MAILTO:contacto@budismo.com
END:VEVENT
BEGIN:VEVENT
DTSTART;TZID=America/Mexico_City:20231229T160000
DTEND;TZID=America/Mexico_City:20231229T160000
DTSTAMP:20260420T065735
CREATED:20231204T223817Z
LAST-MODIFIED:20231206T044631Z
UID:10000012-1703865600-1703865600@budismo.org.mx
SUMMARY:Retiro de Yoga Restaurativa y Meditación
DESCRIPTION:Hoy en día nos encontramos con personas que tienen tensiones y molestias por estar mucho tiempo sentados en una misma posición\, por trabajar con estrés y por malas posturas en nuestras diferentes actividades que hacen que los músculos del cuerpo se endurezcan\, en especial los de la espalda\, dando como resultado al final del día una jornada laboral pesada y en muchos casos con poco rendimiento. \nEste retiro tiene el objetivo de aportar una serie de herramientas prácticas\, a través de posturas de yoga restaurativo junto con meditaciones\, que nos promuevan calma mental ayudando así a restaurar el cuerpo y logrando un bienestar general. \nLa rutina del retiro incluye períodos de yoga\, meditación y tiempo libre así como ceremonias tradicionales budistas. \nEste retiro comenzará con la cena que se servirá a las 19:00 hrs. (se podrá llegar a partir de las 16:00 hrs.) y culminará después del desayuno. \nNota: La Abadía de Nuestra Señora de los Ángeles cierra sus puertas a las 21:00 hrs. y vuelve a abrirlas a las 7:00 hrs.\, toma tus precauciones para llegar antes de la hora de cierre o al día siguiente antes de las 09:00 hrs. \nAbierto a todo público con cualquier nivel de experiencia. \nLeer más... \n\n\nLugar:\nLa Abadía de Nuestra Señora de los Ángeles es un lugar que aporta la experiencia de amplitud y espacio natural. La hospedería se compone de 50 habitaciones dobles con baño\, las cuales forman un semicírculo en el cual se encuentra el área verde arbolada de esta hospedería. Toda esta zona es rodeada por 20 hectáreas de espacios verdes las cuales eran usadas antiguamente por los monjes benedictinos de este monasterio para el cultivo. \nNota: La Abadía de Nuestra Señora de los Ángeles cierra sus puertas a las 21:30 hrs. y vuelve a abrirlas a partir de las 6:30 hrs.\, toma tus precauciones para llegar antes de la hora de cierre o bien al día siguiente. \n¿Qué Llevar?\nRopa cómoda y sencilla por varios días; incluye algo abrigador\, zapatos de fácil poner y quitar\, toalla personal y artículos de baño. \n¿Cómo llegar?\nEl camión se tiene que tomar en la central sur de Taxqueña\, el que va a Cuernavaca (muy importante: asegúrate que éste va al Casino de la selva y que hace bajada en la Glorieta de la Paz (o glorieta de la paloma)\, que es el monumento que anuncia que ya entraste a la ciudad. Asegúrate que haga la parada\, pregunta por uno que la haga. Un detalle importante es tratar de tener tu equipaje a la mano junto a ti o no te permitirá bajarte en la Glorieta de la Paz. Al entrar a la ciudad de Cuernavaca\, ya estando en la glorieta de la Paz\, toma un taxi o una pesera que te lleve al km. 4 del poblado de Cuernavaca-Oaxtepec o Carretera Cuernavaca-Tepoztlán. Son cerca de 7 u 8 min. manejando. Fíjate a la derecha\, cuando veas un letrero “Monasterio Benedictino o Abadía de Nuestra Señora de los Ángeles” ahí da vuelta a la izquierda\, es una calle pequeña que va de subida\, al fondo se encuentra la abadía. Al llegar a la reja de éste diles que vas a la Hospedería y continúa cuesta arriba cuando veas una cruz gris\, da vuelta a la izquierda y ahí encontrarás la Hospedería. Si vas en coche toma la carretera de cuota y sigue las mismas indicaciones al llegar a la Glorieta de la Paz.
URL:https://budismo.org.mx/calendario/retiro-de-yoga-restaurativa-y-meditacion/
LOCATION:Centro Budista Roma\, Jalapa 94\, esq. Tabasco\, Colonia Roma Norte\, CDMX\, 06700\, México
CATEGORIES:Retiros
ATTACH;FMTTYPE=image/jpeg:https://budismo.org.mx/wp-content/uploads/2022/11/restaurativa-meditacion.jpg
ORGANIZER;CN="Centro Budista Roma":MAILTO:contacto@budismo.com
END:VEVENT
END:VCALENDAR