BEGIN:VCALENDAR
VERSION:2.0
PRODID:-//Centro Budista de la Ciudad de México - ECPv6.5.0.1//NONSGML v1.0//EN
CALSCALE:GREGORIAN
METHOD:PUBLISH
X-ORIGINAL-URL:https://budismo.org.mx
X-WR-CALDESC:Eventos para Centro Budista de la Ciudad de México
REFRESH-INTERVAL;VALUE=DURATION:PT1H
X-Robots-Tag:noindex
X-PUBLISHED-TTL:PT1H
BEGIN:VTIMEZONE
TZID:America/Mexico_City
BEGIN:STANDARD
TZOFFSETFROM:-0600
TZOFFSETTO:-0600
TZNAME:CST
DTSTART:20230101T000000
END:STANDARD
END:VTIMEZONE
BEGIN:VEVENT
DTSTART;TZID=America/Mexico_City:20231228T190000
DTEND;TZID=America/Mexico_City:20231228T190000
DTSTAMP:20260422T024631
CREATED:20231208T012854Z
LAST-MODIFIED:20231208T012857Z
UID:10000014-1703790000-1703790000@budismo.org.mx
SUMMARY:Taller Especial de Gratitud
DESCRIPTION:Gratitud es la consciencia del beneficio que nos ha otorgado una persona o una situación. La forma en que se expresa este agradecimiento es con actos\, palabras y mente. Este último aspecto del agradecimiento es la experiencia de sensibilidad y apertura que tenemos hacia estas personas o situaciones que nos aportaron algo bueno a nuestras vidas. \nEs este taller de agradecimiento exploraremos las dimensiones de éste y podremos cultivarlo a partir de la meditación Budista Katannuta Bahavana. \nAbierto a todo público.
URL:https://budismo.org.mx/calendario/taller-especial-de-gratitud/
LOCATION:Centro Budista Roma\, Jalapa 94\, esq. Tabasco\, Colonia Roma Norte\, CDMX\, 06700\, México
CATEGORIES:Meditación
ATTACH;FMTTYPE=image/jpeg:https://budismo.org.mx/wp-content/uploads/2021/11/taller-especial-ggratitud-01b.jpg
ORGANIZER;CN="Centro Budista Roma":MAILTO:contacto@budismo.com
END:VEVENT
END:VCALENDAR