BEGIN:VCALENDAR
VERSION:2.0
PRODID:-//Centro Budista de la Ciudad de México - ECPv6.5.0.1//NONSGML v1.0//EN
CALSCALE:GREGORIAN
METHOD:PUBLISH
X-ORIGINAL-URL:https://budismo.org.mx
X-WR-CALDESC:Eventos para Centro Budista de la Ciudad de México
REFRESH-INTERVAL;VALUE=DURATION:PT1H
X-Robots-Tag:noindex
X-PUBLISHED-TTL:PT1H
BEGIN:VTIMEZONE
TZID:America/Mexico_City
BEGIN:STANDARD
TZOFFSETFROM:-0600
TZOFFSETTO:-0600
TZNAME:CST
DTSTART:20230101T000000
END:STANDARD
END:VTIMEZONE
BEGIN:VEVENT
DTSTART;TZID=America/Mexico_City:20231223T113000
DTEND;TZID=America/Mexico_City:20231223T113000
DTSTAMP:20260422T073111
CREATED:20231208T020825Z
LAST-MODIFIED:20231208T020952Z
UID:10000018-1703331000-1703331000@budismo.org.mx
SUMMARY:Taller de Meditación y budismo: Reflexión de cierre de año con los 4 Recordatorios
DESCRIPTION:Los cuatro recordatorios son una forma de contemplación y de preparación para la práctica y para la vida misma. Estos recordatorios son: 1. La preciosa oportunidad de la vida humana; 2. Reflexión sobre la muerte; 3. Insatisfactoriedad o sufrimiento; 4. Karma o acciones tienen consecuencias. \nLos recordatorios son reflexiones que expresan aspectos universales de la vida; no sólo se usan antes de la meditación como preparación a la misma sino que también se usan a lo largo del día como formas de contemplación. Los recordatorios llevados de forma positiva nos aportan dirección y una inspiración especial para aprovechar cada oportunidad que se presente. \nAbierto a todo público\, con cualquier nivel de conocimiento.
URL:https://budismo.org.mx/calendario/taller-de-meditacion-y-budismo-reflexion-de-cierre-con-los-4-recordatorios/
LOCATION:Centro Budista Roma\, Jalapa 94\, esq. Tabasco\, Colonia Roma Norte\, CDMX\, 06700\, México
CATEGORIES:Budismo,Meditación
ATTACH;FMTTYPE=image/jpeg:https://budismo.org.mx/wp-content/uploads/2022/06/meditacion-004b.jpg
ORGANIZER;CN="Centro Budista Roma":MAILTO:contacto@budismo.com
END:VEVENT
BEGIN:VEVENT
DTSTART;TZID=America/Mexico_City:20231223T113000
DTEND;TZID=America/Mexico_City:20231223T113000
DTSTAMP:20260422T073111
CREATED:20231208T021300Z
LAST-MODIFIED:20231214T210436Z
UID:10000019-1703331000-1703331000@budismo.org.mx
SUMMARY:Taller especial de Yoga Restaurativa: Agradeciendo a nuestro cuerpo
DESCRIPTION:La yoga nos invita a conectarnos profundamente con nuestro cuerpo y mente. A medida que nos preparamos para la sesión es esencial recordar que nuestro cuerpo es un regalo y así expresar nuestra gratitud en la practica hacia nuestro cuerpo por ser el medio que nos permite experimentar la vida en toda su plenitud. \nA través del yoga\, tenemos la oportunidad de honrar y agradecer a cada parte de nosotros\, desde la punta de nuestros dedos hasta lo más profundo de nuestra mente. Al entrar en posturas\, respirar conscientemente y sentir la conexión con nosotros mismos\, reconocemos la sabiduría de nuestro cuerpo y expresamos nuestra gratitud por su capacidad de adaptación\, curación y resistencia. \nCada vez que nos estiramos\, flexionamos o simplemente nos quedamos en quietud\, estamos diciendo «gracias» a nuestro cuerpo por ser nuestro compañero en este viaje de la vida. \nAbierto a todo público
URL:https://budismo.org.mx/calendario/taller-especial-de-yoga-restaurativa-agradeciendo-a-nuestro-cuerpo/
LOCATION:Centro Budista Roma\, Jalapa 94\, esq. Tabasco\, Colonia Roma Norte\, CDMX\, 06700\, México
CATEGORIES:Actividades Destacadas,Yoga Restaurativa
ATTACH;FMTTYPE=image/jpeg:https://budismo.org.mx/wp-content/uploads/2022/12/taller-de-yoga-001b.jpg
ORGANIZER;CN="Centro Budista Roma":MAILTO:contacto@budismo.com
END:VEVENT
BEGIN:VEVENT
DTSTART;TZID=America/Mexico_City:20231223T140000
DTEND;TZID=America/Mexico_City:20231223T140000
DTSTAMP:20260422T073111
CREATED:20231214T224235Z
LAST-MODIFIED:20231214T224235Z
UID:10000314-1703340000-1703340000@budismo.org.mx
SUMMARY:Taller especial de Yoga Restaurativa: Agradeciendo a nuestro cuerpo
DESCRIPTION:La yoga nos invita a conectarnos profundamente con nuestro cuerpo y mente. A medida que nos preparamos para la sesión es esencial recordar que nuestro cuerpo es un regalo y así expresar nuestra gratitud en la practica hacia nuestro cuerpo por ser el medio que nos permite experimentar la vida en toda su plenitud. \nA través del yoga\, tenemos la oportunidad de honrar y agradecer a cada parte de nosotros\, desde la punta de nuestros dedos hasta lo más profundo de nuestra mente. Al entrar en posturas\, respirar conscientemente y sentir la conexión con nosotros mismos\, reconocemos la sabiduría de nuestro cuerpo y expresamos nuestra gratitud por su capacidad de adaptación\, curación y resistencia. \nCada vez que nos estiramos\, flexionamos o simplemente nos quedamos en quietud\, estamos diciendo «gracias» a nuestro cuerpo por ser nuestro compañero en este viaje de la vida. \nAbierto a todo público
URL:https://budismo.org.mx/calendario/taller-especial-de-yoga-restaurativa-agradeciendo-a-nuestro-cuerpo-2/
LOCATION:Centro Budista Roma\, Jalapa 94\, esq. Tabasco\, Colonia Roma Norte\, CDMX\, 06700\, México
CATEGORIES:Actividades Destacadas,Yoga Restaurativa
ATTACH;FMTTYPE=image/jpeg:https://budismo.org.mx/wp-content/uploads/2022/05/taller-yoga-02b.jpg
ORGANIZER;CN="Centro Budista Roma":MAILTO:contacto@budismo.com
END:VEVENT
END:VCALENDAR