BEGIN:VCALENDAR
VERSION:2.0
PRODID:-//Centro Budista de la Ciudad de México - ECPv6.5.0.1//NONSGML v1.0//EN
CALSCALE:GREGORIAN
METHOD:PUBLISH
X-ORIGINAL-URL:https://budismo.org.mx
X-WR-CALDESC:Eventos para Centro Budista de la Ciudad de México
REFRESH-INTERVAL;VALUE=DURATION:PT1H
X-Robots-Tag:noindex
X-PUBLISHED-TTL:PT1H
BEGIN:VTIMEZONE
TZID:America/Mexico_City
BEGIN:STANDARD
TZOFFSETFROM:-0600
TZOFFSETTO:-0600
TZNAME:CST
DTSTART:20230101T000000
END:STANDARD
END:VTIMEZONE
BEGIN:VEVENT
DTSTART;TZID=America/Mexico_City:20231222T160000
DTEND;TZID=America/Mexico_City:20231222T160000
DTSTAMP:20260422T090050
CREATED:20231202T012747Z
LAST-MODIFIED:20231206T044627Z
UID:10000009-1703260800-1703260800@budismo.org.mx
SUMMARY:Retiro en Navidad de Budismo\, Meditación y Contemplación Los tres niveles de Sabiduría
DESCRIPTION:El término Sabiduría en el Budismo a menudo se refiere a una visión directa de la naturaleza de la realidad. Esto es parte del objetivo último del budismo y\, ciertamente\, aunque muchos de nosotros tenemos atisbos parciales de algo similar a esta comprensión directa\, necesitamos valorar y alimentar estos destellos. \nExisten tres niveles de cultivo de esta visión que se denominan los Tres Niveles de Sabiduría: Sabiduría al Escuchar (o leer); Sabiduría al Pensar o Reflexionar y Sabiduría al Meditar. \nEn este retiro de 3 noches\, a través de sesiones de Estudio\, Meditación y Contemplación\, podremos explorar y reconocer la manera en el El Budismo describe nuestra experiencia y la naturaleza de las cosas\, ayudándonos así a entender más de estas. Abierto a cualquier nivel de experiencia del Budismo o la meditación \nAbierto a todo público con cualquier nivel de conocimiento \n10% de descuento\, en cualquier forma de pago\, aplicable sólo hasta el 12 de diciembre. \n**La quinta el «Zopilote» Cuenta con amplias y cómodas habitaciones\, un amplio salón de conferencias y hermosos jardines en los que disfrutará de un ambiente de paz e introspección. \nMapa para descargar \nLeer más... \n\n\nLugar:\nQuinta El Zopilote es un centro de retiros que le ofrecerá todas las atenciones y servicios que desean para su estancia. Cuenta con cómodas habitaciones\, un amplio salón de conferencias y hermosos jardines en los que disfrutará de un ambiente de paz e introspección. \n¿Qué Llevar?\nRopa cómoda y sencilla por varios días; incluye algo abrigador\, zapatos de fácil poner y quitar y artículos de baño. \n¿Cómo llegar en Automóvil?\nToma la autopista México-Cuernavaca\, pasa la entrada a la ciudad de Cuernavaca y 20 minutos después (ó 15 km aprox.) toma la desviación que indica la salida hacia el Aeropuerto-Tepetzingo\, (justo donde acaba el Tec de Monterrey Campu Cuernavaca). Sigue por dicho camino por otros 100 m pasando la caseta ($10) da vuelta en “U” hacia la izquierda y sigue derecho hasta el primer semáforo (verás una estación de Hidrogas) justo ahí da vuelta a la derecha. Continua derecho por otros aprox. 1.7 km\, pasando el cruce de semáforos continua derecho aprox. otros 2 km en los que encontrarás una curva ligera y otra pronunciada. Una vez saliendo de esa curva en encontrarás la salida a Atlacholoaya\, da vuelta a la derecha. Sigue derecho por el camino por aprox. 2.4 km y pasando una cancha de fútbol verás que el camino se bifurca; toma el lado izquierdo. Inmediatamente después atraviesa el pequeño puente y en la primera esquina da vuelta a la izquierda\, en la siguiente calle de nuevo da vuelta a la izquierda. Aprox. a 400 m de tu lado izquierdo encontrarás Quinta el Zopilote (es un portón de madera y una barda de ladrillo con un letrero pequeño). \n¿Cómo llegar en Autobús?\nIr a la estación de autobuses del sur Taxqueña. Tomar el camión Pullman de Morelos directo al poblado de Chiconcuac (Ojo Chiconcuac\, dentro del municipio de Xochitepec en Morelos\, no el que vende suéteres). Llegando a la estación de Chiconcuac\, Morelos tomar un taxi para Quinta el Zopilote que esta en: Calle San José S/N colonia el calvario\, rumbo a Tlacholuaya.
URL:https://budismo.org.mx/calendario/retiro-en-navidad-de-budismo-meditacion-y-contemplacion-los-tres-niveles-de-sabiduria/
LOCATION:Centro Budista Roma\, Jalapa 94\, esq. Tabasco\, Colonia Roma Norte\, CDMX\, 06700\, México
CATEGORIES:Retiros
ATTACH;FMTTYPE=image/jpeg:https://budismo.org.mx/wp-content/uploads/2019/03/retiro-atencion-consciente-compasion-01a.jpg
ORGANIZER;CN="Centro Budista Roma":MAILTO:contacto@budismo.com
END:VEVENT
END:VCALENDAR