BEGIN:VCALENDAR
VERSION:2.0
PRODID:-//Centro Budista de la Ciudad de México - ECPv6.5.0.1//NONSGML v1.0//EN
CALSCALE:GREGORIAN
METHOD:PUBLISH
X-WR-CALNAME:Centro Budista de la Ciudad de México
X-ORIGINAL-URL:https://budismo.org.mx
X-WR-CALDESC:Eventos para Centro Budista de la Ciudad de México
REFRESH-INTERVAL;VALUE=DURATION:PT1H
X-Robots-Tag:noindex
X-PUBLISHED-TTL:PT1H
BEGIN:VTIMEZONE
TZID:America/Mexico_City
BEGIN:STANDARD
TZOFFSETFROM:-0600
TZOFFSETTO:-0600
TZNAME:CST
DTSTART:20230101T000000
END:STANDARD
END:VTIMEZONE
BEGIN:VEVENT
DTSTART;TZID=America/Mexico_City:20231219T190000
DTEND;TZID=America/Mexico_City:20231219T190000
DTSTAMP:20260422T133023
CREATED:20231202T011824Z
LAST-MODIFIED:20231206T043509Z
UID:10000007-1703012400-1703012400@budismo.org.mx
SUMMARY:Taller especial de cursos formales Online: Gratitud y cierre de ciclos
DESCRIPTION:Gratitud es la conciencia del beneficio que nos ha otorgado una persona o una situación. \nLa forma en que se expresa este agradecimiento es con actos\, palabras y mente. Este último aspecto del agradecimiento es la experiencia de sensibilidad y apertura que tenemos hacia estas personas o situaciones que nos aportaron algo bueno a nuestras vidas. \nEs este taller de Agradecimiento exploraremos las dimensiones de éste y podremos cultivarlo a partir de la meditación Budista Katannuta Bahavana; además aprovecharemos para generar reflexiones que nos ayuden a cerrar el año. \n*Sesión especial solo para personas de Cursos formales\, Mitras y miembros de la Orden
URL:https://budismo.org.mx/calendario/taller-especial-de-cursos-formales-online-gratitud-y-cierre-de-ciclos/
LOCATION:Centro Budista Roma\, Jalapa 94\, esq. Tabasco\, Colonia Roma Norte\, CDMX\, 06700\, México
CATEGORIES:Actividad Online,Estudio y Práctica Formal
ATTACH;FMTTYPE=image/jpeg:https://budismo.org.mx/wp-content/uploads/2022/05/boddhisatva-s-xxi-01f.jpg
ORGANIZER;CN="Centro Budista Roma":MAILTO:contacto@budismo.com
END:VEVENT
END:VCALENDAR