BEGIN:VCALENDAR
VERSION:2.0
PRODID:-//Centro Budista de la Ciudad de México - ECPv6.5.0.1//NONSGML v1.0//EN
CALSCALE:GREGORIAN
METHOD:PUBLISH
X-ORIGINAL-URL:https://budismo.org.mx
X-WR-CALDESC:Eventos para Centro Budista de la Ciudad de México
REFRESH-INTERVAL;VALUE=DURATION:PT1H
X-Robots-Tag:noindex
X-PUBLISHED-TTL:PT1H
BEGIN:VTIMEZONE
TZID:America/Mexico_City
BEGIN:STANDARD
TZOFFSETFROM:-0600
TZOFFSETTO:-0600
TZNAME:CST
DTSTART:20230101T000000
END:STANDARD
END:VTIMEZONE
BEGIN:VEVENT
DTSTART;TZID=America/Mexico_City:20231213T170000
DTEND;TZID=America/Mexico_City:20231213T170000
DTSTAMP:20260422T222638
CREATED:20231202T005941Z
LAST-MODIFIED:20231206T043433Z
UID:10000004-1702486800-1702486800@budismo.org.mx
SUMMARY:Sesión de Budismo para jóvenes: Ultima sesión del año
DESCRIPTION:Durante varios meses de este año hemos tenido actividades de budismo y meditación para jóvenes\, en las cuales generamos conexión con otros\, y a la ves conocimos más de nuestra mente y nuestras aspiraciones personales que nos llevaron a tener una vida más significativa y feliz. \nEn esta sesión especial queremos reunirnos y convivir agradeciendo las condiciones que tuvimos durante el año en nuestras vidas\, buscando mantener nuestros ideales para el siguiente año y sus retos. \nAbierto a jóvenes de 18 a 29 años con cualquier nivel de conocimiento. \n*Te agradecemos cualquier contribución adicional\, nos ayuda a mantener nuestras actividades.
URL:https://budismo.org.mx/calendario/sesion-de-budismo-para-jovenes-ultima-sesion-del-ano/
LOCATION:Centro Budista Roma\, Jalapa 94\, esq. Tabasco\, Colonia Roma Norte\, CDMX\, 06700\, México
CATEGORIES:Budismo
ATTACH;FMTTYPE=image/jpeg:https://budismo.org.mx/wp-content/uploads/2022/05/budismo-jovenes-01b.jpg
ORGANIZER;CN="Centro Budista Roma":MAILTO:contacto@budismo.com
END:VEVENT
BEGIN:VEVENT
DTSTART;TZID=America/Mexico_City:20231213T190000
DTEND;TZID=America/Mexico_City:20231213T190000
DTSTAMP:20260422T222638
CREATED:20231202T010334Z
LAST-MODIFIED:20231206T043452Z
UID:10000005-1702494000-1702494000@budismo.org.mx
SUMMARY:Taller especial de Meditación Online: Cerrando el año conectando con las emociones
DESCRIPTION:Las emociones son esenciales para nuestra vida en general\, podemos aprender a verlas cómo algo útil\, como algo que nos motiva\, y que nos ayude a cultivar amabilidad y compasión a nosotros mismos. \nDe ahí la importancia de la práctica de la Atención Consciente o la Atención Plena ya que nos ayuda a relacionarnos de manera consciente con la respiración\, con el cuerpo y las emociones. \nEl cuidado de nuestras emociones es como cuidar de un ser querido que necesita de tu ayuda\, si logramos conectar con nuestras emociones podemos vivir una vida de mayor plenitud y felicidad. \nEn este taller especial a través de la meditación podremos generar emociones positivas como el amor\, compasión que nos ayuden a cerrar el año con nuestros seres queridos y nosotros mismos. \nAbierto a todo público.
URL:https://budismo.org.mx/calendario/taller-especial-de-meditacion-online-cerrando-el-ano-conectando-con-las-emociones/
LOCATION:Centro Budista Roma\, Jalapa 94\, esq. Tabasco\, Colonia Roma Norte\, CDMX\, 06700\, México
CATEGORIES:Actividad Online,Meditación
ATTACH;FMTTYPE=image/jpeg:https://budismo.org.mx/wp-content/uploads/2022/10/paquete-meditacion-001f.jpg
ORGANIZER;CN="Centro Budista Roma":MAILTO:contacto@budismo.com
END:VEVENT
END:VCALENDAR