BEGIN:VCALENDAR
VERSION:2.0
PRODID:-//Centro Budista de la Ciudad de México - ECPv6.5.0.1//NONSGML v1.0//EN
CALSCALE:GREGORIAN
METHOD:PUBLISH
X-WR-CALNAME:Centro Budista de la Ciudad de México
X-ORIGINAL-URL:https://budismo.org.mx
X-WR-CALDESC:Eventos para Centro Budista de la Ciudad de México
REFRESH-INTERVAL;VALUE=DURATION:PT1H
X-Robots-Tag:noindex
X-PUBLISHED-TTL:PT1H
BEGIN:VTIMEZONE
TZID:America/Mexico_City
BEGIN:STANDARD
TZOFFSETFROM:-0600
TZOFFSETTO:-0600
TZNAME:CST
DTSTART:20230101T000000
END:STANDARD
END:VTIMEZONE
BEGIN:VEVENT
DTSTART;TZID=America/Mexico_City:20231211T170000
DTEND;TZID=America/Mexico_City:20231211T170000
DTSTAMP:20260423T011646
CREATED:20231123T200355Z
LAST-MODIFIED:20231208T001622Z
UID:10000003-1702314000-1702314000@budismo.org.mx
SUMMARY:Taller Especial de Yoga Restaurativa: Cerrando el año con un cuerpo Sano
DESCRIPTION:El final de un año es un momento ideal para reflexionar sobre nuestras experiencias vividas\, liberar tensiones acumuladas y prepararnos para un nuevo comienzo.\nYa seas un practicante experimentado o estés iniciándote en el yoga este taller es para tí\, las posturas y prácticas se adaptarán a tus necesidades individuales\, creando un espacio seguro y de esfuerzo para encontrar bienestar.\nPrepárate para cerrar el año de una manera consciente\, amable y saludable teniendo la oportunidad de dejar atrás lo que ya no nos sirve y recibir el nuevo año con alegría y vitalidad.\n\nAbierto a todo público.
URL:https://budismo.org.mx/calendario/taller-especial-de-yoga-restaurativa-cerrando-el-ano-con-un-cuerpo-sano/
LOCATION:Centro Budista Roma\, Jalapa 94\, esq. Tabasco\, Colonia Roma Norte\, CDMX\, 06700\, México
CATEGORIES:Talleres de Yoga
ATTACH;FMTTYPE=image/jpeg:https://budismo.org.mx/wp-content/uploads/2023/11/principiantes-001b.jpg
ORGANIZER;CN="Centro Budista Roma":MAILTO:contacto@budismo.com
END:VEVENT
END:VCALENDAR